BEGIN:VCALENDAR
VERSION:2.0
PRODID:https://www.kufer.de/kuferweb / DE
METHOD:PUBLISH
CALSCALE:GREGORIAN
X-WR-TIMEZONE:Europe/Berlin
BEGIN:VTIMEZONE
TZID:Europe/Berlin
X-LIC-LOCATION:Europe/Berlin
BEGIN:DAYLIGHT
TZOFFSETFROM:+0100
TZOFFSETTO:+0200
TZNAME:CEST
DTSTART:19700329T020000
RRULE:FREQ=YEARLY;INTERVAL=1;BYDAY=-1SU;BYMONTH=3
END:DAYLIGHT
BEGIN:STANDARD
TZOFFSETFROM:+0200
TZOFFSETTO:+0100
TZNAME:CET
DTSTART:19701025T030000
RRULE:FREQ=YEARLY;INTERVAL=1;BYDAY=-1SU;BYMONTH=10
END:STANDARD
END:VTIMEZONE
BEGIN:VEVENT
DTSTAMP:20260420T131206
DTSTART;TZID=Europe/Berlin:20260914T163000
DTEND;TZID=Europe/Berlin:20260914T180000
UID:BE8512-20260914T163000@VHSKAISERSLAUTERN E.V.
SUMMARY:Tippen lernen - für die Kids selten so wichtig wie heute (10-15 Jahre) (BE8512) 
LOCATION:WBZ, Raum 109, Kanalstraße 3, 67655 Kaiserslautern
END:VEVENT
BEGIN:VEVENT
DTSTAMP:20260420T131206
DTSTART;TZID=Europe/Berlin:20260921T163000
DTEND;TZID=Europe/Berlin:20260921T180000
UID:BE8512-20260921T163000@VHSKAISERSLAUTERN E.V.
SUMMARY:Tippen lernen - für die Kids selten so wichtig wie heute (10-15 Jahre) (BE8512) 
LOCATION:WBZ, Raum 109, Kanalstraße 3, 67655 Kaiserslautern
END:VEVENT
BEGIN:VEVENT
DTSTAMP:20260420T131206
DTSTART;TZID=Europe/Berlin:20260928T163000
DTEND;TZID=Europe/Berlin:20260928T180000
UID:BE8512-20260928T163000@VHSKAISERSLAUTERN E.V.
SUMMARY:Tippen lernen - für die Kids selten so wichtig wie heute (10-15 Jahre) (BE8512) 
LOCATION:WBZ, Raum 109, Kanalstraße 3, 67655 Kaiserslautern
END:VEVENT
BEGIN:VEVENT
DTSTAMP:20260420T131206
DTSTART;TZID=Europe/Berlin:20261019T163000
DTEND;TZID=Europe/Berlin:20261019T180000
UID:BE8512-20261019T163000@VHSKAISERSLAUTERN E.V.
SUMMARY:Tippen lernen - für die Kids selten so wichtig wie heute (10-15 Jahre) (BE8512) 
LOCATION:WBZ, Raum 109, Kanalstraße 3, 67655 Kaiserslautern
END:VEVENT
BEGIN:VEVENT
DTSTAMP:20260420T131206
DTSTART;TZID=Europe/Berlin:20261026T163000
DTEND;TZID=Europe/Berlin:20261026T180000
UID:BE8512-20261026T163000@VHSKAISERSLAUTERN E.V.
SUMMARY:Tippen lernen - für die Kids selten so wichtig wie heute (10-15 Jahre) (BE8512) 
LOCATION:WBZ, Raum 109, Kanalstraße 3, 67655 Kaiserslautern
END:VEVENT
BEGIN:VEVENT
DTSTAMP:20260420T131206
DTSTART;TZID=Europe/Berlin:20261102T163000
DTEND;TZID=Europe/Berlin:20261102T180000
UID:BE8512-20261102T163000@VHSKAISERSLAUTERN E.V.
SUMMARY:Tippen lernen - für die Kids selten so wichtig wie heute (10-15 Jahre) (BE8512) 
LOCATION:WBZ, Raum 109, Kanalstraße 3, 67655 Kaiserslautern
END:VEVENT
BEGIN:VEVENT
DTSTAMP:20260420T131206
DTSTART;TZID=Europe/Berlin:20261109T163000
DTEND;TZID=Europe/Berlin:20261109T180000
UID:BE8512-20261109T163000@VHSKAISERSLAUTERN E.V.
SUMMARY:Tippen lernen - für die Kids selten so wichtig wie heute (10-15 Jahre) (BE8512) 
LOCATION:WBZ, Raum 109, Kanalstraße 3, 67655 Kaiserslautern
END:VEVENT
BEGIN:VEVENT
DTSTAMP:20260420T131206
DTSTART;TZID=Europe/Berlin:20261116T163000
DTEND;TZID=Europe/Berlin:20261116T180000
UID:BE8512-20261116T163000@VHSKAISERSLAUTERN E.V.
SUMMARY:Tippen lernen - für die Kids selten so wichtig wie heute (10-15 Jahre) (BE8512) 
LOCATION:WBZ, Raum 109, Kanalstraße 3, 67655 Kaiserslautern
END:VEVENT
BEGIN:VEVENT
DTSTAMP:20260420T131206
DTSTART;TZID=Europe/Berlin:20261123T163000
DTEND;TZID=Europe/Berlin:20261123T180000
UID:BE8512-20261123T163000@VHSKAISERSLAUTERN E.V.
SUMMARY:Tippen lernen - für die Kids selten so wichtig wie heute (10-15 Jahre) (BE8512) 
LOCATION:WBZ, Raum 109, Kanalstraße 3, 67655 Kaiserslautern
END:VEVENT
BEGIN:VEVENT
DTSTAMP:20260420T131206
DTSTART;TZID=Europe/Berlin:20261130T163000
DTEND;TZID=Europe/Berlin:20261130T180000
UID:BE8512-20261130T163000@VHSKAISERSLAUTERN E.V.
SUMMARY:Tippen lernen - für die Kids selten so wichtig wie heute (10-15 Jahre) (BE8512) 
LOCATION:WBZ, Raum 109, Kanalstraße 3, 67655 Kaiserslautern
END:VEVENT
END:VCALENDAR