BEGIN:VCALENDAR
VERSION:2.0
PRODID:https://www.kufer.de/kuferweb / DE
METHOD:PUBLISH
CALSCALE:GREGORIAN
X-WR-TIMEZONE:Europe/Berlin
BEGIN:VTIMEZONE
TZID:Europe/Berlin
X-LIC-LOCATION:Europe/Berlin
BEGIN:DAYLIGHT
TZOFFSETFROM:+0100
TZOFFSETTO:+0200
TZNAME:CEST
DTSTART:19700329T020000
RRULE:FREQ=YEARLY;INTERVAL=1;BYDAY=-1SU;BYMONTH=3
END:DAYLIGHT
BEGIN:STANDARD
TZOFFSETFROM:+0200
TZOFFSETTO:+0100
TZNAME:CET
DTSTART:19701025T030000
RRULE:FREQ=YEARLY;INTERVAL=1;BYDAY=-1SU;BYMONTH=10
END:STANDARD
END:VTIMEZONE
BEGIN:VEVENT
DTSTAMP:20260421T133238
DTSTART;TZID=Europe/Berlin:20261019T150000
DTEND;TZID=Europe/Berlin:20261019T160000
UID:BE8250-20261019T150000@VHSKAISERSLAUTERN E.V.
SUMMARY:HipHop für Kinder (8-10 Jahre) (BE8250) 
LOCATION:WBZ, Raum U20, Kanalstraße 3, 67655 Kaiserslautern
END:VEVENT
BEGIN:VEVENT
DTSTAMP:20260421T133238
DTSTART;TZID=Europe/Berlin:20261026T150000
DTEND;TZID=Europe/Berlin:20261026T160000
UID:BE8250-20261026T150000@VHSKAISERSLAUTERN E.V.
SUMMARY:HipHop für Kinder (8-10 Jahre) (BE8250) 
LOCATION:WBZ, Raum U20, Kanalstraße 3, 67655 Kaiserslautern
END:VEVENT
BEGIN:VEVENT
DTSTAMP:20260421T133238
DTSTART;TZID=Europe/Berlin:20261102T150000
DTEND;TZID=Europe/Berlin:20261102T160000
UID:BE8250-20261102T150000@VHSKAISERSLAUTERN E.V.
SUMMARY:HipHop für Kinder (8-10 Jahre) (BE8250) 
LOCATION:WBZ, Raum U20, Kanalstraße 3, 67655 Kaiserslautern
END:VEVENT
BEGIN:VEVENT
DTSTAMP:20260421T133238
DTSTART;TZID=Europe/Berlin:20261109T150000
DTEND;TZID=Europe/Berlin:20261109T160000
UID:BE8250-20261109T150000@VHSKAISERSLAUTERN E.V.
SUMMARY:HipHop für Kinder (8-10 Jahre) (BE8250) 
LOCATION:WBZ, Raum U20, Kanalstraße 3, 67655 Kaiserslautern
END:VEVENT
BEGIN:VEVENT
DTSTAMP:20260421T133238
DTSTART;TZID=Europe/Berlin:20261116T150000
DTEND;TZID=Europe/Berlin:20261116T160000
UID:BE8250-20261116T150000@VHSKAISERSLAUTERN E.V.
SUMMARY:HipHop für Kinder (8-10 Jahre) (BE8250) 
LOCATION:WBZ, Raum U20, Kanalstraße 3, 67655 Kaiserslautern
END:VEVENT
BEGIN:VEVENT
DTSTAMP:20260421T133238
DTSTART;TZID=Europe/Berlin:20261123T150000
DTEND;TZID=Europe/Berlin:20261123T160000
UID:BE8250-20261123T150000@VHSKAISERSLAUTERN E.V.
SUMMARY:HipHop für Kinder (8-10 Jahre) (BE8250) 
LOCATION:WBZ, Raum U20, Kanalstraße 3, 67655 Kaiserslautern
END:VEVENT
BEGIN:VEVENT
DTSTAMP:20260421T133238
DTSTART;TZID=Europe/Berlin:20261130T150000
DTEND;TZID=Europe/Berlin:20261130T160000
UID:BE8250-20261130T150000@VHSKAISERSLAUTERN E.V.
SUMMARY:HipHop für Kinder (8-10 Jahre) (BE8250) 
LOCATION:WBZ, Raum U20, Kanalstraße 3, 67655 Kaiserslautern
END:VEVENT
END:VCALENDAR