BEGIN:VCALENDAR
VERSION:2.0
PRODID:https://www.kufer.de/kuferweb / DE
METHOD:PUBLISH
CALSCALE:GREGORIAN
X-WR-TIMEZONE:Europe/Berlin
BEGIN:VTIMEZONE
TZID:Europe/Berlin
X-LIC-LOCATION:Europe/Berlin
BEGIN:DAYLIGHT
TZOFFSETFROM:+0100
TZOFFSETTO:+0200
TZNAME:CEST
DTSTART:19700329T020000
RRULE:FREQ=YEARLY;INTERVAL=1;BYDAY=-1SU;BYMONTH=3
END:DAYLIGHT
BEGIN:STANDARD
TZOFFSETFROM:+0200
TZOFFSETTO:+0100
TZNAME:CET
DTSTART:19701025T030000
RRULE:FREQ=YEARLY;INTERVAL=1;BYDAY=-1SU;BYMONTH=10
END:STANDARD
END:VTIMEZONE
BEGIN:VEVENT
DTSTAMP:20260420T115329
DTSTART;TZID=Europe/Berlin:20260914T140000
DTEND;TZID=Europe/Berlin:20260914T161500
UID:BE7501-20260914T140000@VHSKAISERSLAUTERN E.V.
SUMMARY:Erste Schritte am Computer für Seniorinnen und Senioren in Word und im Internet (BE7501) 
LOCATION:WBZ, Raum 109, Kanalstraße 3, 67655 Kaiserslautern
END:VEVENT
BEGIN:VEVENT
DTSTAMP:20260420T115329
DTSTART;TZID=Europe/Berlin:20260921T140000
DTEND;TZID=Europe/Berlin:20260921T161500
UID:BE7501-20260921T140000@VHSKAISERSLAUTERN E.V.
SUMMARY:Erste Schritte am Computer für Seniorinnen und Senioren in Word und im Internet (BE7501) 
LOCATION:WBZ, Raum 109, Kanalstraße 3, 67655 Kaiserslautern
END:VEVENT
BEGIN:VEVENT
DTSTAMP:20260420T115329
DTSTART;TZID=Europe/Berlin:20260928T140000
DTEND;TZID=Europe/Berlin:20260928T161500
UID:BE7501-20260928T140000@VHSKAISERSLAUTERN E.V.
SUMMARY:Erste Schritte am Computer für Seniorinnen und Senioren in Word und im Internet (BE7501) 
LOCATION:WBZ, Raum 109, Kanalstraße 3, 67655 Kaiserslautern
END:VEVENT
BEGIN:VEVENT
DTSTAMP:20260420T115329
DTSTART;TZID=Europe/Berlin:20261019T140000
DTEND;TZID=Europe/Berlin:20261019T161500
UID:BE7501-20261019T140000@VHSKAISERSLAUTERN E.V.
SUMMARY:Erste Schritte am Computer für Seniorinnen und Senioren in Word und im Internet (BE7501) 
LOCATION:WBZ, Raum 109, Kanalstraße 3, 67655 Kaiserslautern
END:VEVENT
BEGIN:VEVENT
DTSTAMP:20260420T115329
DTSTART;TZID=Europe/Berlin:20261026T140000
DTEND;TZID=Europe/Berlin:20261026T161500
UID:BE7501-20261026T140000@VHSKAISERSLAUTERN E.V.
SUMMARY:Erste Schritte am Computer für Seniorinnen und Senioren in Word und im Internet (BE7501) 
LOCATION:WBZ, Raum 109, Kanalstraße 3, 67655 Kaiserslautern
END:VEVENT
BEGIN:VEVENT
DTSTAMP:20260420T115329
DTSTART;TZID=Europe/Berlin:20261102T140000
DTEND;TZID=Europe/Berlin:20261102T161500
UID:BE7501-20261102T140000@VHSKAISERSLAUTERN E.V.
SUMMARY:Erste Schritte am Computer für Seniorinnen und Senioren in Word und im Internet (BE7501) 
LOCATION:WBZ, Raum 109, Kanalstraße 3, 67655 Kaiserslautern
END:VEVENT
BEGIN:VEVENT
DTSTAMP:20260420T115329
DTSTART;TZID=Europe/Berlin:20261109T140000
DTEND;TZID=Europe/Berlin:20261109T161500
UID:BE7501-20261109T140000@VHSKAISERSLAUTERN E.V.
SUMMARY:Erste Schritte am Computer für Seniorinnen und Senioren in Word und im Internet (BE7501) 
LOCATION:WBZ, Raum 109, Kanalstraße 3, 67655 Kaiserslautern
END:VEVENT
BEGIN:VEVENT
DTSTAMP:20260420T115329
DTSTART;TZID=Europe/Berlin:20261116T140000
DTEND;TZID=Europe/Berlin:20261116T161500
UID:BE7501-20261116T140000@VHSKAISERSLAUTERN E.V.
SUMMARY:Erste Schritte am Computer für Seniorinnen und Senioren in Word und im Internet (BE7501) 
LOCATION:WBZ, Raum 109, Kanalstraße 3, 67655 Kaiserslautern
END:VEVENT
END:VCALENDAR