BEGIN:VCALENDAR
VERSION:2.0
PRODID:https://www.kufer.de/kuferweb / DE
METHOD:PUBLISH
CALSCALE:GREGORIAN
X-WR-TIMEZONE:Europe/Berlin
BEGIN:VTIMEZONE
TZID:Europe/Berlin
X-LIC-LOCATION:Europe/Berlin
BEGIN:DAYLIGHT
TZOFFSETFROM:+0100
TZOFFSETTO:+0200
TZNAME:CEST
DTSTART:19700329T020000
RRULE:FREQ=YEARLY;INTERVAL=1;BYDAY=-1SU;BYMONTH=3
END:DAYLIGHT
BEGIN:STANDARD
TZOFFSETFROM:+0200
TZOFFSETTO:+0100
TZNAME:CET
DTSTART:19701025T030000
RRULE:FREQ=YEARLY;INTERVAL=1;BYDAY=-1SU;BYMONTH=10
END:STANDARD
END:VTIMEZONE
BEGIN:VEVENT
DTSTAMP:20260421T123053
DTSTART;TZID=Europe/Berlin:20261104T200500
DTEND;TZID=Europe/Berlin:20261104T213500
UID:BE3154-20261104T200500@VHSKAISERSLAUTERN E.V.
SUMMARY:Klangschalen-Meditation Innehalten im Alltag mit tibetischen Klangschalen (BE3154) 
LOCATION:WBZ, Raum 203, Kanalstraße 3, 67655 Kaiserslautern
END:VEVENT
BEGIN:VEVENT
DTSTAMP:20260421T123053
DTSTART;TZID=Europe/Berlin:20261111T200500
DTEND;TZID=Europe/Berlin:20261111T213500
UID:BE3154-20261111T200500@VHSKAISERSLAUTERN E.V.
SUMMARY:Klangschalen-Meditation Innehalten im Alltag mit tibetischen Klangschalen (BE3154) 
LOCATION:WBZ, Raum 203, Kanalstraße 3, 67655 Kaiserslautern
END:VEVENT
BEGIN:VEVENT
DTSTAMP:20260421T123053
DTSTART;TZID=Europe/Berlin:20261118T200500
DTEND;TZID=Europe/Berlin:20261118T213500
UID:BE3154-20261118T200500@VHSKAISERSLAUTERN E.V.
SUMMARY:Klangschalen-Meditation Innehalten im Alltag mit tibetischen Klangschalen (BE3154) 
LOCATION:WBZ, Raum 203, Kanalstraße 3, 67655 Kaiserslautern
END:VEVENT
END:VCALENDAR