BEGIN:VCALENDAR
VERSION:2.0
PRODID:https://www.kufer.de/kuferweb / DE
METHOD:PUBLISH
CALSCALE:GREGORIAN
X-WR-TIMEZONE:Europe/Berlin
BEGIN:VTIMEZONE
TZID:Europe/Berlin
X-LIC-LOCATION:Europe/Berlin
BEGIN:DAYLIGHT
TZOFFSETFROM:+0100
TZOFFSETTO:+0200
TZNAME:CEST
DTSTART:19700329T020000
RRULE:FREQ=YEARLY;INTERVAL=1;BYDAY=-1SU;BYMONTH=3
END:DAYLIGHT
BEGIN:STANDARD
TZOFFSETFROM:+0200
TZOFFSETTO:+0100
TZNAME:CET
DTSTART:19701025T030000
RRULE:FREQ=YEARLY;INTERVAL=1;BYDAY=-1SU;BYMONTH=10
END:STANDARD
END:VTIMEZONE
BEGIN:VEVENT
DTSTAMP:20260421T145904
DTSTART;TZID=Europe/Berlin:20261021T191500
DTEND;TZID=Europe/Berlin:20261021T204500
UID:BE3113A-20261021T191500@VHSKAISERSLAUTERN E.V.
SUMMARY:Kundalini-Yoga (BE3113A) 
LOCATION:WBZ, Raum U28, Kanalstr. 3, 67655 Kaiserslautern
END:VEVENT
BEGIN:VEVENT
DTSTAMP:20260421T145904
DTSTART;TZID=Europe/Berlin:20261028T191500
DTEND;TZID=Europe/Berlin:20261028T204500
UID:BE3113A-20261028T191500@VHSKAISERSLAUTERN E.V.
SUMMARY:Kundalini-Yoga (BE3113A) 
LOCATION:WBZ, Raum U28, Kanalstr. 3, 67655 Kaiserslautern
END:VEVENT
BEGIN:VEVENT
DTSTAMP:20260421T145904
DTSTART;TZID=Europe/Berlin:20261104T191500
DTEND;TZID=Europe/Berlin:20261104T204500
UID:BE3113A-20261104T191500@VHSKAISERSLAUTERN E.V.
SUMMARY:Kundalini-Yoga (BE3113A) 
LOCATION:WBZ, Raum U28, Kanalstr. 3, 67655 Kaiserslautern
END:VEVENT
BEGIN:VEVENT
DTSTAMP:20260421T145904
DTSTART;TZID=Europe/Berlin:20261111T191500
DTEND;TZID=Europe/Berlin:20261111T204500
UID:BE3113A-20261111T191500@VHSKAISERSLAUTERN E.V.
SUMMARY:Kundalini-Yoga (BE3113A) 
LOCATION:WBZ, Raum U28, Kanalstr. 3, 67655 Kaiserslautern
END:VEVENT
BEGIN:VEVENT
DTSTAMP:20260421T145904
DTSTART;TZID=Europe/Berlin:20261118T191500
DTEND;TZID=Europe/Berlin:20261118T204500
UID:BE3113A-20261118T191500@VHSKAISERSLAUTERN E.V.
SUMMARY:Kundalini-Yoga (BE3113A) 
LOCATION:WBZ, Raum U28, Kanalstr. 3, 67655 Kaiserslautern
END:VEVENT
BEGIN:VEVENT
DTSTAMP:20260421T145904
DTSTART;TZID=Europe/Berlin:20261125T191500
DTEND;TZID=Europe/Berlin:20261125T204500
UID:BE3113A-20261125T191500@VHSKAISERSLAUTERN E.V.
SUMMARY:Kundalini-Yoga (BE3113A) 
LOCATION:WBZ, Raum U28, Kanalstr. 3, 67655 Kaiserslautern
END:VEVENT
END:VCALENDAR