BEGIN:VCALENDAR
VERSION:2.0
PRODID:https://www.kufer.de/kuferweb / DE
METHOD:PUBLISH
CALSCALE:GREGORIAN
X-WR-TIMEZONE:Europe/Berlin
BEGIN:VTIMEZONE
TZID:Europe/Berlin
X-LIC-LOCATION:Europe/Berlin
BEGIN:DAYLIGHT
TZOFFSETFROM:+0100
TZOFFSETTO:+0200
TZNAME:CEST
DTSTART:19700329T020000
RRULE:FREQ=YEARLY;INTERVAL=1;BYDAY=-1SU;BYMONTH=3
END:DAYLIGHT
BEGIN:STANDARD
TZOFFSETFROM:+0200
TZOFFSETTO:+0100
TZNAME:CET
DTSTART:19701025T030000
RRULE:FREQ=YEARLY;INTERVAL=1;BYDAY=-1SU;BYMONTH=10
END:STANDARD
END:VTIMEZONE
BEGIN:VEVENT
DTSTAMP:20260419T170106
DTSTART;TZID=Europe/Berlin:20260909T191500
DTEND;TZID=Europe/Berlin:20260909T204500
UID:BE3113-20260909T191500@VHSKAISERSLAUTERN E.V.
SUMMARY:Kundalini-Yoga (BE3113) 
LOCATION:WBZ, Raum U28, Kanalstr. 3, 67655 Kaiserslautern
END:VEVENT
BEGIN:VEVENT
DTSTAMP:20260419T170106
DTSTART;TZID=Europe/Berlin:20260916T191500
DTEND;TZID=Europe/Berlin:20260916T204500
UID:BE3113-20260916T191500@VHSKAISERSLAUTERN E.V.
SUMMARY:Kundalini-Yoga (BE3113) 
LOCATION:WBZ, Raum U28, Kanalstr. 3, 67655 Kaiserslautern
END:VEVENT
BEGIN:VEVENT
DTSTAMP:20260419T170106
DTSTART;TZID=Europe/Berlin:20260923T191500
DTEND;TZID=Europe/Berlin:20260923T204500
UID:BE3113-20260923T191500@VHSKAISERSLAUTERN E.V.
SUMMARY:Kundalini-Yoga (BE3113) 
LOCATION:WBZ, Raum U28, Kanalstr. 3, 67655 Kaiserslautern
END:VEVENT
BEGIN:VEVENT
DTSTAMP:20260419T170106
DTSTART;TZID=Europe/Berlin:20260930T191500
DTEND;TZID=Europe/Berlin:20260930T204500
UID:BE3113-20260930T191500@VHSKAISERSLAUTERN E.V.
SUMMARY:Kundalini-Yoga (BE3113) 
LOCATION:WBZ, Raum U28, Kanalstr. 3, 67655 Kaiserslautern
END:VEVENT
BEGIN:VEVENT
DTSTAMP:20260419T170106
DTSTART;TZID=Europe/Berlin:20261021T191500
DTEND;TZID=Europe/Berlin:20261021T204500
UID:BE3113-20261021T191500@VHSKAISERSLAUTERN E.V.
SUMMARY:Kundalini-Yoga (BE3113) 
LOCATION:WBZ, Raum U28, Kanalstr. 3, 67655 Kaiserslautern
END:VEVENT
BEGIN:VEVENT
DTSTAMP:20260419T170106
DTSTART;TZID=Europe/Berlin:20261028T191500
DTEND;TZID=Europe/Berlin:20261028T204500
UID:BE3113-20261028T191500@VHSKAISERSLAUTERN E.V.
SUMMARY:Kundalini-Yoga (BE3113) 
LOCATION:WBZ, Raum U28, Kanalstr. 3, 67655 Kaiserslautern
END:VEVENT
BEGIN:VEVENT
DTSTAMP:20260419T170106
DTSTART;TZID=Europe/Berlin:20261104T191500
DTEND;TZID=Europe/Berlin:20261104T204500
UID:BE3113-20261104T191500@VHSKAISERSLAUTERN E.V.
SUMMARY:Kundalini-Yoga (BE3113) 
LOCATION:WBZ, Raum U28, Kanalstr. 3, 67655 Kaiserslautern
END:VEVENT
BEGIN:VEVENT
DTSTAMP:20260419T170106
DTSTART;TZID=Europe/Berlin:20261202T191500
DTEND;TZID=Europe/Berlin:20261202T204500
UID:BE3113-20261202T191500@VHSKAISERSLAUTERN E.V.
SUMMARY:Kundalini-Yoga (BE3113) 
LOCATION:WBZ, Raum U28, Kanalstr. 3, 67655 Kaiserslautern
END:VEVENT
BEGIN:VEVENT
DTSTAMP:20260419T170106
DTSTART;TZID=Europe/Berlin:20261209T191500
DTEND;TZID=Europe/Berlin:20261209T204500
UID:BE3113-20261209T191500@VHSKAISERSLAUTERN E.V.
SUMMARY:Kundalini-Yoga (BE3113) 
LOCATION:WBZ, Raum U28, Kanalstr. 3, 67655 Kaiserslautern
END:VEVENT
BEGIN:VEVENT
DTSTAMP:20260419T170106
DTSTART;TZID=Europe/Berlin:20261216T191500
DTEND;TZID=Europe/Berlin:20261216T204500
UID:BE3113-20261216T191500@VHSKAISERSLAUTERN E.V.
SUMMARY:Kundalini-Yoga (BE3113) 
LOCATION:WBZ, Raum U28, Kanalstr. 3, 67655 Kaiserslautern
END:VEVENT
END:VCALENDAR