BEGIN:VCALENDAR
VERSION:2.0
PRODID:https://www.kufer.de/kuferweb / DE
METHOD:PUBLISH
CALSCALE:GREGORIAN
X-WR-TIMEZONE:Europe/Berlin
BEGIN:VTIMEZONE
TZID:Europe/Berlin
X-LIC-LOCATION:Europe/Berlin
BEGIN:DAYLIGHT
TZOFFSETFROM:+0100
TZOFFSETTO:+0200
TZNAME:CEST
DTSTART:19700329T020000
RRULE:FREQ=YEARLY;INTERVAL=1;BYDAY=-1SU;BYMONTH=3
END:DAYLIGHT
BEGIN:STANDARD
TZOFFSETFROM:+0200
TZOFFSETTO:+0100
TZNAME:CET
DTSTART:19701025T030000
RRULE:FREQ=YEARLY;INTERVAL=1;BYDAY=-1SU;BYMONTH=10
END:STANDARD
END:VTIMEZONE
BEGIN:VEVENT
DTSTAMP:20260421T134655
DTSTART;TZID=Europe/Berlin:20260908T164500
DTEND;TZID=Europe/Berlin:20260908T181500
UID:BE3102-20260908T164500@VHSKAISERSLAUTERN E.V.
SUMMARY:Yoga von Anfang an (BE3102) 
LOCATION:WBZ, Raum U20, Kanalstraße 3, 67655 Kaiserslautern
END:VEVENT
BEGIN:VEVENT
DTSTAMP:20260421T134655
DTSTART;TZID=Europe/Berlin:20260915T164500
DTEND;TZID=Europe/Berlin:20260915T181500
UID:BE3102-20260915T164500@VHSKAISERSLAUTERN E.V.
SUMMARY:Yoga von Anfang an (BE3102) 
LOCATION:WBZ, Raum U20, Kanalstraße 3, 67655 Kaiserslautern
END:VEVENT
BEGIN:VEVENT
DTSTAMP:20260421T134655
DTSTART;TZID=Europe/Berlin:20260922T164500
DTEND;TZID=Europe/Berlin:20260922T181500
UID:BE3102-20260922T164500@VHSKAISERSLAUTERN E.V.
SUMMARY:Yoga von Anfang an (BE3102) 
LOCATION:WBZ, Raum U20, Kanalstraße 3, 67655 Kaiserslautern
END:VEVENT
BEGIN:VEVENT
DTSTAMP:20260421T134655
DTSTART;TZID=Europe/Berlin:20260929T164500
DTEND;TZID=Europe/Berlin:20260929T181500
UID:BE3102-20260929T164500@VHSKAISERSLAUTERN E.V.
SUMMARY:Yoga von Anfang an (BE3102) 
LOCATION:WBZ, Raum U20, Kanalstraße 3, 67655 Kaiserslautern
END:VEVENT
BEGIN:VEVENT
DTSTAMP:20260421T134655
DTSTART;TZID=Europe/Berlin:20261020T164500
DTEND;TZID=Europe/Berlin:20261020T181500
UID:BE3102-20261020T164500@VHSKAISERSLAUTERN E.V.
SUMMARY:Yoga von Anfang an (BE3102) 
LOCATION:WBZ, Raum U20, Kanalstraße 3, 67655 Kaiserslautern
END:VEVENT
BEGIN:VEVENT
DTSTAMP:20260421T134655
DTSTART;TZID=Europe/Berlin:20261027T164500
DTEND;TZID=Europe/Berlin:20261027T181500
UID:BE3102-20261027T164500@VHSKAISERSLAUTERN E.V.
SUMMARY:Yoga von Anfang an (BE3102) 
LOCATION:WBZ, Raum U20, Kanalstraße 3, 67655 Kaiserslautern
END:VEVENT
BEGIN:VEVENT
DTSTAMP:20260421T134655
DTSTART;TZID=Europe/Berlin:20261103T164500
DTEND;TZID=Europe/Berlin:20261103T181500
UID:BE3102-20261103T164500@VHSKAISERSLAUTERN E.V.
SUMMARY:Yoga von Anfang an (BE3102) 
LOCATION:WBZ, Raum U20, Kanalstraße 3, 67655 Kaiserslautern
END:VEVENT
BEGIN:VEVENT
DTSTAMP:20260421T134655
DTSTART;TZID=Europe/Berlin:20261110T164500
DTEND;TZID=Europe/Berlin:20261110T181500
UID:BE3102-20261110T164500@VHSKAISERSLAUTERN E.V.
SUMMARY:Yoga von Anfang an (BE3102) 
LOCATION:WBZ, Raum U20, Kanalstraße 3, 67655 Kaiserslautern
END:VEVENT
BEGIN:VEVENT
DTSTAMP:20260421T134655
DTSTART;TZID=Europe/Berlin:20261117T164500
DTEND;TZID=Europe/Berlin:20261117T181500
UID:BE3102-20261117T164500@VHSKAISERSLAUTERN E.V.
SUMMARY:Yoga von Anfang an (BE3102) 
LOCATION:WBZ, Raum U20, Kanalstraße 3, 67655 Kaiserslautern
END:VEVENT
BEGIN:VEVENT
DTSTAMP:20260421T134655
DTSTART;TZID=Europe/Berlin:20261124T164500
DTEND;TZID=Europe/Berlin:20261124T181500
UID:BE3102-20261124T164500@VHSKAISERSLAUTERN E.V.
SUMMARY:Yoga von Anfang an (BE3102) 
LOCATION:WBZ, Raum U20, Kanalstraße 3, 67655 Kaiserslautern
END:VEVENT
BEGIN:VEVENT
DTSTAMP:20260421T134655
DTSTART;TZID=Europe/Berlin:20261201T164500
DTEND;TZID=Europe/Berlin:20261201T181500
UID:BE3102-20261201T164500@VHSKAISERSLAUTERN E.V.
SUMMARY:Yoga von Anfang an (BE3102) 
LOCATION:WBZ, Raum U20, Kanalstraße 3, 67655 Kaiserslautern
END:VEVENT
BEGIN:VEVENT
DTSTAMP:20260421T134655
DTSTART;TZID=Europe/Berlin:20261208T164500
DTEND;TZID=Europe/Berlin:20261208T181500
UID:BE3102-20261208T164500@VHSKAISERSLAUTERN E.V.
SUMMARY:Yoga von Anfang an (BE3102) 
LOCATION:WBZ, Raum U20, Kanalstraße 3, 67655 Kaiserslautern
END:VEVENT
END:VCALENDAR