BEGIN:VCALENDAR
VERSION:2.0
PRODID:https://www.kufer.de/kuferweb / DE
METHOD:PUBLISH
CALSCALE:GREGORIAN
X-WR-TIMEZONE:Europe/Berlin
BEGIN:VTIMEZONE
TZID:Europe/Berlin
X-LIC-LOCATION:Europe/Berlin
BEGIN:DAYLIGHT
TZOFFSETFROM:+0100
TZOFFSETTO:+0200
TZNAME:CEST
DTSTART:19700329T020000
RRULE:FREQ=YEARLY;INTERVAL=1;BYDAY=-1SU;BYMONTH=3
END:DAYLIGHT
BEGIN:STANDARD
TZOFFSETFROM:+0200
TZOFFSETTO:+0100
TZNAME:CET
DTSTART:19701025T030000
RRULE:FREQ=YEARLY;INTERVAL=1;BYDAY=-1SU;BYMONTH=10
END:STANDARD
END:VTIMEZONE
BEGIN:VEVENT
DTSTAMP:20260419T230422
DTSTART;TZID=Europe/Berlin:20260223T163000
DTEND;TZID=Europe/Berlin:20260223T180000
UID:BD8512-20260223T163000@VHSKAISERSLAUTERN E.V.
SUMMARY:Tippen lernen - für die Kids selten so wichtig wie heute (10-16 Jahre) (BD8512) 
LOCATION:WBZ, Raum 109, Kanalstraße 3, 67655 Kaiserslautern
END:VEVENT
BEGIN:VEVENT
DTSTAMP:20260419T230422
DTSTART;TZID=Europe/Berlin:20260302T163000
DTEND;TZID=Europe/Berlin:20260302T180000
UID:BD8512-20260302T163000@VHSKAISERSLAUTERN E.V.
SUMMARY:Tippen lernen - für die Kids selten so wichtig wie heute (10-16 Jahre) (BD8512) 
LOCATION:WBZ, Raum 109, Kanalstraße 3, 67655 Kaiserslautern
END:VEVENT
BEGIN:VEVENT
DTSTAMP:20260419T230422
DTSTART;TZID=Europe/Berlin:20260309T163000
DTEND;TZID=Europe/Berlin:20260309T180000
UID:BD8512-20260309T163000@VHSKAISERSLAUTERN E.V.
SUMMARY:Tippen lernen - für die Kids selten so wichtig wie heute (10-16 Jahre) (BD8512) 
LOCATION:WBZ, Raum 109, Kanalstraße 3, 67655 Kaiserslautern
END:VEVENT
BEGIN:VEVENT
DTSTAMP:20260419T230422
DTSTART;TZID=Europe/Berlin:20260316T163000
DTEND;TZID=Europe/Berlin:20260316T180000
UID:BD8512-20260316T163000@VHSKAISERSLAUTERN E.V.
SUMMARY:Tippen lernen - für die Kids selten so wichtig wie heute (10-16 Jahre) (BD8512) 
LOCATION:WBZ, Raum 109, Kanalstraße 3, 67655 Kaiserslautern
END:VEVENT
BEGIN:VEVENT
DTSTAMP:20260419T230422
DTSTART;TZID=Europe/Berlin:20260323T163000
DTEND;TZID=Europe/Berlin:20260323T180000
UID:BD8512-20260323T163000@VHSKAISERSLAUTERN E.V.
SUMMARY:Tippen lernen - für die Kids selten so wichtig wie heute (10-16 Jahre) (BD8512) 
LOCATION:WBZ, Raum 109, Kanalstraße 3, 67655 Kaiserslautern
END:VEVENT
BEGIN:VEVENT
DTSTAMP:20260419T230422
DTSTART;TZID=Europe/Berlin:20260413T163000
DTEND;TZID=Europe/Berlin:20260413T180000
UID:BD8512-20260413T163000@VHSKAISERSLAUTERN E.V.
SUMMARY:Tippen lernen - für die Kids selten so wichtig wie heute (10-16 Jahre) (BD8512) 
LOCATION:WBZ, Raum 109, Kanalstraße 3, 67655 Kaiserslautern
END:VEVENT
BEGIN:VEVENT
DTSTAMP:20260419T230422
DTSTART;TZID=Europe/Berlin:20260427T163000
DTEND;TZID=Europe/Berlin:20260427T180000
UID:BD8512-20260427T163000@VHSKAISERSLAUTERN E.V.
SUMMARY:Tippen lernen - für die Kids selten so wichtig wie heute (10-16 Jahre) (BD8512) 
LOCATION:WBZ, Raum 109, Kanalstraße 3, 67655 Kaiserslautern
END:VEVENT
BEGIN:VEVENT
DTSTAMP:20260419T230422
DTSTART;TZID=Europe/Berlin:20260504T163000
DTEND;TZID=Europe/Berlin:20260504T180000
UID:BD8512-20260504T163000@VHSKAISERSLAUTERN E.V.
SUMMARY:Tippen lernen - für die Kids selten so wichtig wie heute (10-16 Jahre) (BD8512) 
LOCATION:WBZ, Raum 109, Kanalstraße 3, 67655 Kaiserslautern
END:VEVENT
BEGIN:VEVENT
DTSTAMP:20260419T230422
DTSTART;TZID=Europe/Berlin:20260511T163000
DTEND;TZID=Europe/Berlin:20260511T180000
UID:BD8512-20260511T163000@VHSKAISERSLAUTERN E.V.
SUMMARY:Tippen lernen - für die Kids selten so wichtig wie heute (10-16 Jahre) (BD8512) 
LOCATION:WBZ, Raum 109, Kanalstraße 3, 67655 Kaiserslautern
END:VEVENT
BEGIN:VEVENT
DTSTAMP:20260419T230422
DTSTART;TZID=Europe/Berlin:20260518T163000
DTEND;TZID=Europe/Berlin:20260518T180000
UID:BD8512-20260518T163000@VHSKAISERSLAUTERN E.V.
DESCRIPTION:Ersatz für Ausfall am 20.04.2026
SUMMARY:Tippen lernen - für die Kids selten so wichtig wie heute (10-16 Jahre) (BD8512) 
LOCATION:WBZ, Raum 109, Kanalstraße 3, 67655 Kaiserslautern
END:VEVENT
END:VCALENDAR