BEGIN:VCALENDAR
VERSION:2.0
PRODID:https://www.kufer.de/kuferweb / DE
METHOD:PUBLISH
CALSCALE:GREGORIAN
X-WR-TIMEZONE:Europe/Berlin
BEGIN:VTIMEZONE
TZID:Europe/Berlin
X-LIC-LOCATION:Europe/Berlin
BEGIN:DAYLIGHT
TZOFFSETFROM:+0100
TZOFFSETTO:+0200
TZNAME:CEST
DTSTART:19700329T020000
RRULE:FREQ=YEARLY;INTERVAL=1;BYDAY=-1SU;BYMONTH=3
END:DAYLIGHT
BEGIN:STANDARD
TZOFFSETFROM:+0200
TZOFFSETTO:+0100
TZNAME:CET
DTSTART:19701025T030000
RRULE:FREQ=YEARLY;INTERVAL=1;BYDAY=-1SU;BYMONTH=10
END:STANDARD
END:VTIMEZONE
BEGIN:VEVENT
DTSTAMP:20260420T114314
DTSTART;TZID=Europe/Berlin:20260202T180000
DTEND;TZID=Europe/Berlin:20260202T193000
UID:BD6401-20260202T180000@VHSKAISERSLAUTERN E.V.
SUMMARY:Rechtschreibtraining - Stufe 1 - ESF+ (BD6401) 
LOCATION:WBZ, Raum 102, Kanalstraße 3, 67655 Kaiserslautern
END:VEVENT
BEGIN:VEVENT
DTSTAMP:20260420T114314
DTSTART;TZID=Europe/Berlin:20260209T180000
DTEND;TZID=Europe/Berlin:20260209T193000
UID:BD6401-20260209T180000@VHSKAISERSLAUTERN E.V.
SUMMARY:Rechtschreibtraining - Stufe 1 - ESF+ (BD6401) 
LOCATION:WBZ, Raum 102, Kanalstraße 3, 67655 Kaiserslautern
END:VEVENT
BEGIN:VEVENT
DTSTAMP:20260420T114314
DTSTART;TZID=Europe/Berlin:20260223T180000
DTEND;TZID=Europe/Berlin:20260223T193000
UID:BD6401-20260223T180000@VHSKAISERSLAUTERN E.V.
SUMMARY:Rechtschreibtraining - Stufe 1 - ESF+ (BD6401) 
LOCATION:WBZ, Raum 102, Kanalstraße 3, 67655 Kaiserslautern
END:VEVENT
BEGIN:VEVENT
DTSTAMP:20260420T114314
DTSTART;TZID=Europe/Berlin:20260302T180000
DTEND;TZID=Europe/Berlin:20260302T193000
UID:BD6401-20260302T180000@VHSKAISERSLAUTERN E.V.
SUMMARY:Rechtschreibtraining - Stufe 1 - ESF+ (BD6401) 
LOCATION:WBZ, Raum 102, Kanalstraße 3, 67655 Kaiserslautern
END:VEVENT
BEGIN:VEVENT
DTSTAMP:20260420T114314
DTSTART;TZID=Europe/Berlin:20260309T180000
DTEND;TZID=Europe/Berlin:20260309T193000
UID:BD6401-20260309T180000@VHSKAISERSLAUTERN E.V.
SUMMARY:Rechtschreibtraining - Stufe 1 - ESF+ (BD6401) 
LOCATION:WBZ, Raum 102, Kanalstraße 3, 67655 Kaiserslautern
END:VEVENT
BEGIN:VEVENT
DTSTAMP:20260420T114314
DTSTART;TZID=Europe/Berlin:20260316T180000
DTEND;TZID=Europe/Berlin:20260316T193000
UID:BD6401-20260316T180000@VHSKAISERSLAUTERN E.V.
SUMMARY:Rechtschreibtraining - Stufe 1 - ESF+ (BD6401) 
LOCATION:WBZ, Raum 102, Kanalstraße 3, 67655 Kaiserslautern
END:VEVENT
BEGIN:VEVENT
DTSTAMP:20260420T114314
DTSTART;TZID=Europe/Berlin:20260323T180000
DTEND;TZID=Europe/Berlin:20260323T193000
UID:BD6401-20260323T180000@VHSKAISERSLAUTERN E.V.
SUMMARY:Rechtschreibtraining - Stufe 1 - ESF+ (BD6401) 
LOCATION:WBZ, Raum 102, Kanalstraße 3, 67655 Kaiserslautern
END:VEVENT
BEGIN:VEVENT
DTSTAMP:20260420T114314
DTSTART;TZID=Europe/Berlin:20260413T180000
DTEND;TZID=Europe/Berlin:20260413T193000
UID:BD6401-20260413T180000@VHSKAISERSLAUTERN E.V.
SUMMARY:Rechtschreibtraining - Stufe 1 - ESF+ (BD6401) 
LOCATION:WBZ, Raum 102, Kanalstraße 3, 67655 Kaiserslautern
END:VEVENT
BEGIN:VEVENT
DTSTAMP:20260420T114314
DTSTART;TZID=Europe/Berlin:20260420T180000
DTEND;TZID=Europe/Berlin:20260420T193000
UID:BD6401-20260420T180000@VHSKAISERSLAUTERN E.V.
SUMMARY:Rechtschreibtraining - Stufe 1 - ESF+ (BD6401) 
LOCATION:WBZ, Raum 102, Kanalstraße 3, 67655 Kaiserslautern
END:VEVENT
BEGIN:VEVENT
DTSTAMP:20260420T114314
DTSTART;TZID=Europe/Berlin:20260427T180000
DTEND;TZID=Europe/Berlin:20260427T193000
UID:BD6401-20260427T180000@VHSKAISERSLAUTERN E.V.
SUMMARY:Rechtschreibtraining - Stufe 1 - ESF+ (BD6401) 
LOCATION:WBZ, Raum 102, Kanalstraße 3, 67655 Kaiserslautern
END:VEVENT
BEGIN:VEVENT
DTSTAMP:20260420T114314
DTSTART;TZID=Europe/Berlin:20260504T180000
DTEND;TZID=Europe/Berlin:20260504T193000
UID:BD6401-20260504T180000@VHSKAISERSLAUTERN E.V.
SUMMARY:Rechtschreibtraining - Stufe 1 - ESF+ (BD6401) 
LOCATION:WBZ, Raum 102, Kanalstraße 3, 67655 Kaiserslautern
END:VEVENT
BEGIN:VEVENT
DTSTAMP:20260420T114314
DTSTART;TZID=Europe/Berlin:20260511T180000
DTEND;TZID=Europe/Berlin:20260511T193000
UID:BD6401-20260511T180000@VHSKAISERSLAUTERN E.V.
SUMMARY:Rechtschreibtraining - Stufe 1 - ESF+ (BD6401) 
LOCATION:WBZ, Raum 102, Kanalstraße 3, 67655 Kaiserslautern
END:VEVENT
BEGIN:VEVENT
DTSTAMP:20260420T114314
DTSTART;TZID=Europe/Berlin:20260518T180000
DTEND;TZID=Europe/Berlin:20260518T193000
UID:BD6401-20260518T180000@VHSKAISERSLAUTERN E.V.
SUMMARY:Rechtschreibtraining - Stufe 1 - ESF+ (BD6401) 
LOCATION:WBZ, Raum 102, Kanalstraße 3, 67655 Kaiserslautern
END:VEVENT
BEGIN:VEVENT
DTSTAMP:20260420T114314
DTSTART;TZID=Europe/Berlin:20260601T180000
DTEND;TZID=Europe/Berlin:20260601T193000
UID:BD6401-20260601T180000@VHSKAISERSLAUTERN E.V.
SUMMARY:Rechtschreibtraining - Stufe 1 - ESF+ (BD6401) 
LOCATION:WBZ, Raum 102, Kanalstraße 3, 67655 Kaiserslautern
END:VEVENT
BEGIN:VEVENT
DTSTAMP:20260420T114314
DTSTART;TZID=Europe/Berlin:20260608T180000
DTEND;TZID=Europe/Berlin:20260608T193000
UID:BD6401-20260608T180000@VHSKAISERSLAUTERN E.V.
SUMMARY:Rechtschreibtraining - Stufe 1 - ESF+ (BD6401) 
LOCATION:WBZ, Raum 102, Kanalstraße 3, 67655 Kaiserslautern
END:VEVENT
BEGIN:VEVENT
DTSTAMP:20260420T114314
DTSTART;TZID=Europe/Berlin:20260615T180000
DTEND;TZID=Europe/Berlin:20260615T193000
UID:BD6401-20260615T180000@VHSKAISERSLAUTERN E.V.
SUMMARY:Rechtschreibtraining - Stufe 1 - ESF+ (BD6401) 
LOCATION:WBZ, Raum 102, Kanalstraße 3, 67655 Kaiserslautern
END:VEVENT
BEGIN:VEVENT
DTSTAMP:20260420T114314
DTSTART;TZID=Europe/Berlin:20260622T180000
DTEND;TZID=Europe/Berlin:20260622T193000
UID:BD6401-20260622T180000@VHSKAISERSLAUTERN E.V.
SUMMARY:Rechtschreibtraining - Stufe 1 - ESF+ (BD6401) 
LOCATION:WBZ, Raum 102, Kanalstraße 3, 67655 Kaiserslautern
END:VEVENT
BEGIN:VEVENT
DTSTAMP:20260420T114314
DTSTART;TZID=Europe/Berlin:20260810T180000
DTEND;TZID=Europe/Berlin:20260810T193000
UID:BD6401-20260810T180000@VHSKAISERSLAUTERN E.V.
SUMMARY:Rechtschreibtraining - Stufe 1 - ESF+ (BD6401) 
LOCATION:WBZ, Raum 102, Kanalstraße 3, 67655 Kaiserslautern
END:VEVENT
BEGIN:VEVENT
DTSTAMP:20260420T114314
DTSTART;TZID=Europe/Berlin:20260817T180000
DTEND;TZID=Europe/Berlin:20260817T193000
UID:BD6401-20260817T180000@VHSKAISERSLAUTERN E.V.
SUMMARY:Rechtschreibtraining - Stufe 1 - ESF+ (BD6401) 
LOCATION:WBZ, Raum 102, Kanalstraße 3, 67655 Kaiserslautern
END:VEVENT
BEGIN:VEVENT
DTSTAMP:20260420T114314
DTSTART;TZID=Europe/Berlin:20260824T180000
DTEND;TZID=Europe/Berlin:20260824T193000
UID:BD6401-20260824T180000@VHSKAISERSLAUTERN E.V.
SUMMARY:Rechtschreibtraining - Stufe 1 - ESF+ (BD6401) 
LOCATION:WBZ, Raum 102, Kanalstraße 3, 67655 Kaiserslautern
END:VEVENT
BEGIN:VEVENT
DTSTAMP:20260420T114314
DTSTART;TZID=Europe/Berlin:20260831T180000
DTEND;TZID=Europe/Berlin:20260831T193000
UID:BD6401-20260831T180000@VHSKAISERSLAUTERN E.V.
SUMMARY:Rechtschreibtraining - Stufe 1 - ESF+ (BD6401) 
LOCATION:WBZ, Raum 102, Kanalstraße 3, 67655 Kaiserslautern
END:VEVENT
BEGIN:VEVENT
DTSTAMP:20260420T114314
DTSTART;TZID=Europe/Berlin:20260907T180000
DTEND;TZID=Europe/Berlin:20260907T193000
UID:BD6401-20260907T180000@VHSKAISERSLAUTERN E.V.
SUMMARY:Rechtschreibtraining - Stufe 1 - ESF+ (BD6401) 
LOCATION:WBZ, Raum 102, Kanalstraße 3, 67655 Kaiserslautern
END:VEVENT
BEGIN:VEVENT
DTSTAMP:20260420T114314
DTSTART;TZID=Europe/Berlin:20260914T180000
DTEND;TZID=Europe/Berlin:20260914T193000
UID:BD6401-20260914T180000@VHSKAISERSLAUTERN E.V.
SUMMARY:Rechtschreibtraining - Stufe 1 - ESF+ (BD6401) 
LOCATION:WBZ, Raum 102, Kanalstraße 3, 67655 Kaiserslautern
END:VEVENT
BEGIN:VEVENT
DTSTAMP:20260420T114314
DTSTART;TZID=Europe/Berlin:20260921T180000
DTEND;TZID=Europe/Berlin:20260921T193000
UID:BD6401-20260921T180000@VHSKAISERSLAUTERN E.V.
SUMMARY:Rechtschreibtraining - Stufe 1 - ESF+ (BD6401) 
LOCATION:WBZ, Raum 102, Kanalstraße 3, 67655 Kaiserslautern
END:VEVENT
BEGIN:VEVENT
DTSTAMP:20260420T114314
DTSTART;TZID=Europe/Berlin:20260928T180000
DTEND;TZID=Europe/Berlin:20260928T193000
UID:BD6401-20260928T180000@VHSKAISERSLAUTERN E.V.
SUMMARY:Rechtschreibtraining - Stufe 1 - ESF+ (BD6401) 
LOCATION:WBZ, Raum 102, Kanalstraße 3, 67655 Kaiserslautern
END:VEVENT
BEGIN:VEVENT
DTSTAMP:20260420T114314
DTSTART;TZID=Europe/Berlin:20261019T180000
DTEND;TZID=Europe/Berlin:20261019T193000
UID:BD6401-20261019T180000@VHSKAISERSLAUTERN E.V.
SUMMARY:Rechtschreibtraining - Stufe 1 - ESF+ (BD6401) 
LOCATION:WBZ, Raum 102, Kanalstraße 3, 67655 Kaiserslautern
END:VEVENT
BEGIN:VEVENT
DTSTAMP:20260420T114314
DTSTART;TZID=Europe/Berlin:20261026T180000
DTEND;TZID=Europe/Berlin:20261026T193000
UID:BD6401-20261026T180000@VHSKAISERSLAUTERN E.V.
SUMMARY:Rechtschreibtraining - Stufe 1 - ESF+ (BD6401) 
LOCATION:WBZ, Raum 102, Kanalstraße 3, 67655 Kaiserslautern
END:VEVENT
BEGIN:VEVENT
DTSTAMP:20260420T114314
DTSTART;TZID=Europe/Berlin:20261102T180000
DTEND;TZID=Europe/Berlin:20261102T193000
UID:BD6401-20261102T180000@VHSKAISERSLAUTERN E.V.
SUMMARY:Rechtschreibtraining - Stufe 1 - ESF+ (BD6401) 
LOCATION:WBZ, Raum 102, Kanalstraße 3, 67655 Kaiserslautern
END:VEVENT
BEGIN:VEVENT
DTSTAMP:20260420T114314
DTSTART;TZID=Europe/Berlin:20261109T180000
DTEND;TZID=Europe/Berlin:20261109T193000
UID:BD6401-20261109T180000@VHSKAISERSLAUTERN E.V.
SUMMARY:Rechtschreibtraining - Stufe 1 - ESF+ (BD6401) 
LOCATION:WBZ, Raum 102, Kanalstraße 3, 67655 Kaiserslautern
END:VEVENT
BEGIN:VEVENT
DTSTAMP:20260420T114314
DTSTART;TZID=Europe/Berlin:20261116T180000
DTEND;TZID=Europe/Berlin:20261116T193000
UID:BD6401-20261116T180000@VHSKAISERSLAUTERN E.V.
SUMMARY:Rechtschreibtraining - Stufe 1 - ESF+ (BD6401) 
LOCATION:WBZ, Raum 102, Kanalstraße 3, 67655 Kaiserslautern
END:VEVENT
BEGIN:VEVENT
DTSTAMP:20260420T114314
DTSTART;TZID=Europe/Berlin:20261123T180000
DTEND;TZID=Europe/Berlin:20261123T193000
UID:BD6401-20261123T180000@VHSKAISERSLAUTERN E.V.
SUMMARY:Rechtschreibtraining - Stufe 1 - ESF+ (BD6401) 
LOCATION:WBZ, Raum 102, Kanalstraße 3, 67655 Kaiserslautern
END:VEVENT
BEGIN:VEVENT
DTSTAMP:20260420T114314
DTSTART;TZID=Europe/Berlin:20261130T180000
DTEND;TZID=Europe/Berlin:20261130T193000
UID:BD6401-20261130T180000@VHSKAISERSLAUTERN E.V.
SUMMARY:Rechtschreibtraining - Stufe 1 - ESF+ (BD6401) 
LOCATION:WBZ, Raum 102, Kanalstraße 3, 67655 Kaiserslautern
END:VEVENT
END:VCALENDAR