BEGIN:VCALENDAR
VERSION:2.0
PRODID:https://www.kufer.de/kuferweb / DE
METHOD:PUBLISH
CALSCALE:GREGORIAN
X-WR-TIMEZONE:Europe/Berlin
BEGIN:VTIMEZONE
TZID:Europe/Berlin
X-LIC-LOCATION:Europe/Berlin
BEGIN:DAYLIGHT
TZOFFSETFROM:+0100
TZOFFSETTO:+0200
TZNAME:CEST
DTSTART:19700329T020000
RRULE:FREQ=YEARLY;INTERVAL=1;BYDAY=-1SU;BYMONTH=3
END:DAYLIGHT
BEGIN:STANDARD
TZOFFSETFROM:+0200
TZOFFSETTO:+0100
TZNAME:CET
DTSTART:19701025T030000
RRULE:FREQ=YEARLY;INTERVAL=1;BYDAY=-1SU;BYMONTH=10
END:STANDARD
END:VTIMEZONE
BEGIN:VEVENT
DTSTAMP:20260420T131243
DTSTART;TZID=Europe/Berlin:20260218T173000
DTEND;TZID=Europe/Berlin:20260218T190000
UID:BD4611-20260218T173000@VHSKAISERSLAUTERN E.V.
SUMMARY:Spanisch Abendkurs A1 mit Vorkenntnissen - Blended Learning (BD4611) 
LOCATION:WBZ, Raum 206, Kanalstraße 3, 67655 Kaiserslautern
END:VEVENT
BEGIN:VEVENT
DTSTAMP:20260420T131243
DTSTART;TZID=Europe/Berlin:20260225T173000
DTEND;TZID=Europe/Berlin:20260225T190000
UID:BD4611-20260225T173000@VHSKAISERSLAUTERN E.V.
SUMMARY:Spanisch Abendkurs A1 mit Vorkenntnissen - Blended Learning (BD4611) 
LOCATION:WBZ, Raum 206, Kanalstraße 3, 67655 Kaiserslautern
END:VEVENT
BEGIN:VEVENT
DTSTAMP:20260420T131243
DTSTART;TZID=Europe/Berlin:20260304T173000
DTEND;TZID=Europe/Berlin:20260304T190000
UID:BD4611-20260304T173000@VHSKAISERSLAUTERN E.V.
SUMMARY:Spanisch Abendkurs A1 mit Vorkenntnissen - Blended Learning (BD4611) 
LOCATION:WBZ, Raum 206, Kanalstraße 3, 67655 Kaiserslautern
END:VEVENT
BEGIN:VEVENT
DTSTAMP:20260420T131243
DTSTART;TZID=Europe/Berlin:20260311T173000
DTEND;TZID=Europe/Berlin:20260311T190000
UID:BD4611-20260311T173000@VHSKAISERSLAUTERN E.V.
SUMMARY:Spanisch Abendkurs A1 mit Vorkenntnissen - Blended Learning (BD4611) 
LOCATION:WBZ, Raum 206, Kanalstraße 3, 67655 Kaiserslautern
END:VEVENT
BEGIN:VEVENT
DTSTAMP:20260420T131243
DTSTART;TZID=Europe/Berlin:20260318T173000
DTEND;TZID=Europe/Berlin:20260318T190000
UID:BD4611-20260318T173000@VHSKAISERSLAUTERN E.V.
SUMMARY:Spanisch Abendkurs A1 mit Vorkenntnissen - Blended Learning (BD4611) 
LOCATION:WBZ, Raum 206, Kanalstraße 3, 67655 Kaiserslautern
END:VEVENT
BEGIN:VEVENT
DTSTAMP:20260420T131243
DTSTART;TZID=Europe/Berlin:20260325T173000
DTEND;TZID=Europe/Berlin:20260325T190000
UID:BD4611-20260325T173000@VHSKAISERSLAUTERN E.V.
SUMMARY:Spanisch Abendkurs A1 mit Vorkenntnissen - Blended Learning (BD4611) 
LOCATION:WBZ, Raum 206, Kanalstraße 3, 67655 Kaiserslautern
END:VEVENT
BEGIN:VEVENT
DTSTAMP:20260420T131243
DTSTART;TZID=Europe/Berlin:20260415T173000
DTEND;TZID=Europe/Berlin:20260415T190000
UID:BD4611-20260415T173000@VHSKAISERSLAUTERN E.V.
SUMMARY:Spanisch Abendkurs A1 mit Vorkenntnissen - Blended Learning (BD4611) 
LOCATION:WBZ, Raum 206, Kanalstraße 3, 67655 Kaiserslautern
END:VEVENT
BEGIN:VEVENT
DTSTAMP:20260420T131243
DTSTART;TZID=Europe/Berlin:20260422T173000
DTEND;TZID=Europe/Berlin:20260422T190000
UID:BD4611-20260422T173000@VHSKAISERSLAUTERN E.V.
SUMMARY:Spanisch Abendkurs A1 mit Vorkenntnissen - Blended Learning (BD4611) 
LOCATION:WBZ, Raum 206, Kanalstraße 3, 67655 Kaiserslautern
END:VEVENT
BEGIN:VEVENT
DTSTAMP:20260420T131243
DTSTART;TZID=Europe/Berlin:20260429T173000
DTEND;TZID=Europe/Berlin:20260429T190000
UID:BD4611-20260429T173000@VHSKAISERSLAUTERN E.V.
SUMMARY:Spanisch Abendkurs A1 mit Vorkenntnissen - Blended Learning (BD4611) 
LOCATION:WBZ, Raum 206, Kanalstraße 3, 67655 Kaiserslautern
END:VEVENT
BEGIN:VEVENT
DTSTAMP:20260420T131243
DTSTART;TZID=Europe/Berlin:20260506T173000
DTEND;TZID=Europe/Berlin:20260506T190000
UID:BD4611-20260506T173000@VHSKAISERSLAUTERN E.V.
SUMMARY:Spanisch Abendkurs A1 mit Vorkenntnissen - Blended Learning (BD4611) 
LOCATION:WBZ, Raum 206, Kanalstraße 3, 67655 Kaiserslautern
END:VEVENT
BEGIN:VEVENT
DTSTAMP:20260420T131243
DTSTART;TZID=Europe/Berlin:20260513T173000
DTEND;TZID=Europe/Berlin:20260513T190000
UID:BD4611-20260513T173000@VHSKAISERSLAUTERN E.V.
SUMMARY:Spanisch Abendkurs A1 mit Vorkenntnissen - Blended Learning (BD4611) 
LOCATION:WBZ, Raum 206, Kanalstraße 3, 67655 Kaiserslautern
END:VEVENT
BEGIN:VEVENT
DTSTAMP:20260420T131243
DTSTART;TZID=Europe/Berlin:20260520T173000
DTEND;TZID=Europe/Berlin:20260520T190000
UID:BD4611-20260520T173000@VHSKAISERSLAUTERN E.V.
SUMMARY:Spanisch Abendkurs A1 mit Vorkenntnissen - Blended Learning (BD4611) 
LOCATION:WBZ, Raum 206, Kanalstraße 3, 67655 Kaiserslautern
END:VEVENT
END:VCALENDAR