BEGIN:VCALENDAR
VERSION:2.0
PRODID:https://www.kufer.de/kuferweb / DE
METHOD:PUBLISH
CALSCALE:GREGORIAN
X-WR-TIMEZONE:Europe/Berlin
BEGIN:VTIMEZONE
TZID:Europe/Berlin
X-LIC-LOCATION:Europe/Berlin
BEGIN:DAYLIGHT
TZOFFSETFROM:+0100
TZOFFSETTO:+0200
TZNAME:CEST
DTSTART:19700329T020000
RRULE:FREQ=YEARLY;INTERVAL=1;BYDAY=-1SU;BYMONTH=3
END:DAYLIGHT
BEGIN:STANDARD
TZOFFSETFROM:+0200
TZOFFSETTO:+0100
TZNAME:CET
DTSTART:19701025T030000
RRULE:FREQ=YEARLY;INTERVAL=1;BYDAY=-1SU;BYMONTH=10
END:STANDARD
END:VTIMEZONE
BEGIN:VEVENT
DTSTAMP:20260420T131014
DTSTART;TZID=Europe/Berlin:20260205T190000
DTEND;TZID=Europe/Berlin:20260205T203000
UID:BD4602-20260205T190000@VHSKAISERSLAUTERN E.V.
SUMMARY:Spanisch Abendkurs Anfänger - Blended Learning (BD4602) 
LOCATION:WBZ, Raum 208, Kanalstraße 3, 67655 Kaiserslautern
END:VEVENT
BEGIN:VEVENT
DTSTAMP:20260420T131014
DTSTART;TZID=Europe/Berlin:20260212T190000
DTEND;TZID=Europe/Berlin:20260212T203000
UID:BD4602-20260212T190000@VHSKAISERSLAUTERN E.V.
SUMMARY:Spanisch Abendkurs Anfänger - Blended Learning (BD4602) 
LOCATION:WBZ, Raum 208, Kanalstraße 3, 67655 Kaiserslautern
END:VEVENT
BEGIN:VEVENT
DTSTAMP:20260420T131014
DTSTART;TZID=Europe/Berlin:20260219T190000
DTEND;TZID=Europe/Berlin:20260219T203000
UID:BD4602-20260219T190000@VHSKAISERSLAUTERN E.V.
SUMMARY:Spanisch Abendkurs Anfänger - Blended Learning (BD4602) 
LOCATION:WBZ, Raum 208, Kanalstraße 3, 67655 Kaiserslautern
END:VEVENT
BEGIN:VEVENT
DTSTAMP:20260420T131014
DTSTART;TZID=Europe/Berlin:20260226T190000
DTEND;TZID=Europe/Berlin:20260226T203000
UID:BD4602-20260226T190000@VHSKAISERSLAUTERN E.V.
SUMMARY:Spanisch Abendkurs Anfänger - Blended Learning (BD4602) 
LOCATION:WBZ, Raum 208, Kanalstraße 3, 67655 Kaiserslautern
END:VEVENT
BEGIN:VEVENT
DTSTAMP:20260420T131014
DTSTART;TZID=Europe/Berlin:20260305T190000
DTEND;TZID=Europe/Berlin:20260305T203000
UID:BD4602-20260305T190000@VHSKAISERSLAUTERN E.V.
SUMMARY:Spanisch Abendkurs Anfänger - Blended Learning (BD4602) 
LOCATION:WBZ, Raum 208, Kanalstraße 3, 67655 Kaiserslautern
END:VEVENT
BEGIN:VEVENT
DTSTAMP:20260420T131014
DTSTART;TZID=Europe/Berlin:20260312T190000
DTEND;TZID=Europe/Berlin:20260312T203000
UID:BD4602-20260312T190000@VHSKAISERSLAUTERN E.V.
SUMMARY:Spanisch Abendkurs Anfänger - Blended Learning (BD4602) 
LOCATION:WBZ, Raum 208, Kanalstraße 3, 67655 Kaiserslautern
END:VEVENT
BEGIN:VEVENT
DTSTAMP:20260420T131014
DTSTART;TZID=Europe/Berlin:20260319T190000
DTEND;TZID=Europe/Berlin:20260319T203000
UID:BD4602-20260319T190000@VHSKAISERSLAUTERN E.V.
SUMMARY:Spanisch Abendkurs Anfänger - Blended Learning (BD4602) 
LOCATION:WBZ, Raum 208, Kanalstraße 3, 67655 Kaiserslautern
END:VEVENT
BEGIN:VEVENT
DTSTAMP:20260420T131014
DTSTART;TZID=Europe/Berlin:20260326T190000
DTEND;TZID=Europe/Berlin:20260326T203000
UID:BD4602-20260326T190000@VHSKAISERSLAUTERN E.V.
SUMMARY:Spanisch Abendkurs Anfänger - Blended Learning (BD4602) 
LOCATION:WBZ, Raum 208, Kanalstraße 3, 67655 Kaiserslautern
END:VEVENT
BEGIN:VEVENT
DTSTAMP:20260420T131014
DTSTART;TZID=Europe/Berlin:20260416T190000
DTEND;TZID=Europe/Berlin:20260416T203000
UID:BD4602-20260416T190000@VHSKAISERSLAUTERN E.V.
SUMMARY:Spanisch Abendkurs Anfänger - Blended Learning (BD4602) 
LOCATION:WBZ, Raum 208, Kanalstraße 3, 67655 Kaiserslautern
END:VEVENT
BEGIN:VEVENT
DTSTAMP:20260420T131014
DTSTART;TZID=Europe/Berlin:20260423T190000
DTEND;TZID=Europe/Berlin:20260423T203000
UID:BD4602-20260423T190000@VHSKAISERSLAUTERN E.V.
SUMMARY:Spanisch Abendkurs Anfänger - Blended Learning (BD4602) 
LOCATION:WBZ, Raum 208, Kanalstraße 3, 67655 Kaiserslautern
END:VEVENT
BEGIN:VEVENT
DTSTAMP:20260420T131014
DTSTART;TZID=Europe/Berlin:20260430T190000
DTEND;TZID=Europe/Berlin:20260430T203000
UID:BD4602-20260430T190000@VHSKAISERSLAUTERN E.V.
SUMMARY:Spanisch Abendkurs Anfänger - Blended Learning (BD4602) 
LOCATION:WBZ, Raum 208, Kanalstraße 3, 67655 Kaiserslautern
END:VEVENT
BEGIN:VEVENT
DTSTAMP:20260420T131014
DTSTART;TZID=Europe/Berlin:20260507T190000
DTEND;TZID=Europe/Berlin:20260507T203000
UID:BD4602-20260507T190000@VHSKAISERSLAUTERN E.V.
SUMMARY:Spanisch Abendkurs Anfänger - Blended Learning (BD4602) 
LOCATION:WBZ, Raum 208, Kanalstraße 3, 67655 Kaiserslautern
END:VEVENT
END:VCALENDAR