BEGIN:VCALENDAR
VERSION:2.0
PRODID:https://www.kufer.de/kuferweb / DE
METHOD:PUBLISH
CALSCALE:GREGORIAN
X-WR-TIMEZONE:Europe/Berlin
BEGIN:VTIMEZONE
TZID:Europe/Berlin
X-LIC-LOCATION:Europe/Berlin
BEGIN:DAYLIGHT
TZOFFSETFROM:+0100
TZOFFSETTO:+0200
TZNAME:CEST
DTSTART:19700329T020000
RRULE:FREQ=YEARLY;INTERVAL=1;BYDAY=-1SU;BYMONTH=3
END:DAYLIGHT
BEGIN:STANDARD
TZOFFSETFROM:+0200
TZOFFSETTO:+0100
TZNAME:CET
DTSTART:19701025T030000
RRULE:FREQ=YEARLY;INTERVAL=1;BYDAY=-1SU;BYMONTH=10
END:STANDARD
END:VTIMEZONE
BEGIN:VEVENT
DTSTAMP:20260425T134317
DTSTART;TZID=Europe/Berlin:20260209T183000
DTEND;TZID=Europe/Berlin:20260209T200000
UID:BD4411-20260209T183000@VHSKAISERSLAUTERN E.V.
SUMMARY:Französisch Abendkurs A1 mit Vorkenntnissen (BD4411) 
LOCATION:WBZ, Raum 114, Kanalstraße 3, 67655 Kaiserslautern
END:VEVENT
BEGIN:VEVENT
DTSTAMP:20260425T134317
DTSTART;TZID=Europe/Berlin:20260223T183000
DTEND;TZID=Europe/Berlin:20260223T200000
UID:BD4411-20260223T183000@VHSKAISERSLAUTERN E.V.
SUMMARY:Französisch Abendkurs A1 mit Vorkenntnissen (BD4411) 
LOCATION:WBZ, Raum 114, Kanalstraße 3, 67655 Kaiserslautern
END:VEVENT
BEGIN:VEVENT
DTSTAMP:20260425T134317
DTSTART;TZID=Europe/Berlin:20260302T183000
DTEND;TZID=Europe/Berlin:20260302T200000
UID:BD4411-20260302T183000@VHSKAISERSLAUTERN E.V.
SUMMARY:Französisch Abendkurs A1 mit Vorkenntnissen (BD4411) 
LOCATION:WBZ, Raum 114, Kanalstraße 3, 67655 Kaiserslautern
END:VEVENT
BEGIN:VEVENT
DTSTAMP:20260425T134317
DTSTART;TZID=Europe/Berlin:20260309T183000
DTEND;TZID=Europe/Berlin:20260309T200000
UID:BD4411-20260309T183000@VHSKAISERSLAUTERN E.V.
SUMMARY:Französisch Abendkurs A1 mit Vorkenntnissen (BD4411) 
LOCATION:WBZ, Raum 114, Kanalstraße 3, 67655 Kaiserslautern
END:VEVENT
BEGIN:VEVENT
DTSTAMP:20260425T134317
DTSTART;TZID=Europe/Berlin:20260316T183000
DTEND;TZID=Europe/Berlin:20260316T200000
UID:BD4411-20260316T183000@VHSKAISERSLAUTERN E.V.
SUMMARY:Französisch Abendkurs A1 mit Vorkenntnissen (BD4411) 
LOCATION:WBZ, Raum 114, Kanalstraße 3, 67655 Kaiserslautern
END:VEVENT
BEGIN:VEVENT
DTSTAMP:20260425T134317
DTSTART;TZID=Europe/Berlin:20260323T183000
DTEND;TZID=Europe/Berlin:20260323T200000
UID:BD4411-20260323T183000@VHSKAISERSLAUTERN E.V.
SUMMARY:Französisch Abendkurs A1 mit Vorkenntnissen (BD4411) 
LOCATION:WBZ, Raum 114, Kanalstraße 3, 67655 Kaiserslautern
END:VEVENT
BEGIN:VEVENT
DTSTAMP:20260425T134317
DTSTART;TZID=Europe/Berlin:20260413T183000
DTEND;TZID=Europe/Berlin:20260413T200000
UID:BD4411-20260413T183000@VHSKAISERSLAUTERN E.V.
SUMMARY:Französisch Abendkurs A1 mit Vorkenntnissen (BD4411) 
LOCATION:WBZ, Raum 114, Kanalstraße 3, 67655 Kaiserslautern
END:VEVENT
BEGIN:VEVENT
DTSTAMP:20260425T134317
DTSTART;TZID=Europe/Berlin:20260420T183000
DTEND;TZID=Europe/Berlin:20260420T200000
UID:BD4411-20260420T183000@VHSKAISERSLAUTERN E.V.
SUMMARY:Französisch Abendkurs A1 mit Vorkenntnissen (BD4411) 
LOCATION:WBZ, Raum 114, Kanalstraße 3, 67655 Kaiserslautern
END:VEVENT
BEGIN:VEVENT
DTSTAMP:20260425T134317
DTSTART;TZID=Europe/Berlin:20260427T183000
DTEND;TZID=Europe/Berlin:20260427T200000
UID:BD4411-20260427T183000@VHSKAISERSLAUTERN E.V.
SUMMARY:Französisch Abendkurs A1 mit Vorkenntnissen (BD4411) 
LOCATION:WBZ, Raum 114, Kanalstraße 3, 67655 Kaiserslautern
END:VEVENT
END:VCALENDAR