BEGIN:VCALENDAR
VERSION:2.0
PRODID:https://www.kufer.de/kuferweb / DE
METHOD:PUBLISH
CALSCALE:GREGORIAN
X-WR-TIMEZONE:Europe/Berlin
BEGIN:VTIMEZONE
TZID:Europe/Berlin
X-LIC-LOCATION:Europe/Berlin
BEGIN:DAYLIGHT
TZOFFSETFROM:+0100
TZOFFSETTO:+0200
TZNAME:CEST
DTSTART:19700329T020000
RRULE:FREQ=YEARLY;INTERVAL=1;BYDAY=-1SU;BYMONTH=3
END:DAYLIGHT
BEGIN:STANDARD
TZOFFSETFROM:+0200
TZOFFSETTO:+0100
TZNAME:CET
DTSTART:19701025T030000
RRULE:FREQ=YEARLY;INTERVAL=1;BYDAY=-1SU;BYMONTH=10
END:STANDARD
END:VTIMEZONE
BEGIN:VEVENT
DTSTAMP:20260419T192959
DTSTART;TZID=Europe/Berlin:20260219T183000
DTEND;TZID=Europe/Berlin:20260219T200000
UID:BD4228-20260219T183000@VHSKAISERSLAUTERN E.V.
SUMMARY:Konversation auf Deutsch – in lockerer Runde unterhalten und austauschen A2/B1 (BD4228) 
LOCATION:WBZ, Raum 112, Kanalstraße 3, 67655 Kaiserslautern
END:VEVENT
BEGIN:VEVENT
DTSTAMP:20260419T192959
DTSTART;TZID=Europe/Berlin:20260226T183000
DTEND;TZID=Europe/Berlin:20260226T200000
UID:BD4228-20260226T183000@VHSKAISERSLAUTERN E.V.
SUMMARY:Konversation auf Deutsch – in lockerer Runde unterhalten und austauschen A2/B1 (BD4228) 
LOCATION:WBZ, Raum 112, Kanalstraße 3, 67655 Kaiserslautern
END:VEVENT
BEGIN:VEVENT
DTSTAMP:20260419T192959
DTSTART;TZID=Europe/Berlin:20260305T183000
DTEND;TZID=Europe/Berlin:20260305T200000
UID:BD4228-20260305T183000@VHSKAISERSLAUTERN E.V.
SUMMARY:Konversation auf Deutsch – in lockerer Runde unterhalten und austauschen A2/B1 (BD4228) 
LOCATION:WBZ, Raum 112, Kanalstraße 3, 67655 Kaiserslautern
END:VEVENT
BEGIN:VEVENT
DTSTAMP:20260419T192959
DTSTART;TZID=Europe/Berlin:20260312T183000
DTEND;TZID=Europe/Berlin:20260312T200000
UID:BD4228-20260312T183000@VHSKAISERSLAUTERN E.V.
SUMMARY:Konversation auf Deutsch – in lockerer Runde unterhalten und austauschen A2/B1 (BD4228) 
LOCATION:WBZ, Raum 112, Kanalstraße 3, 67655 Kaiserslautern
END:VEVENT
BEGIN:VEVENT
DTSTAMP:20260419T192959
DTSTART;TZID=Europe/Berlin:20260326T183000
DTEND;TZID=Europe/Berlin:20260326T200000
UID:BD4228-20260326T183000@VHSKAISERSLAUTERN E.V.
SUMMARY:Konversation auf Deutsch – in lockerer Runde unterhalten und austauschen A2/B1 (BD4228) 
LOCATION:WBZ, Raum 112, Kanalstraße 3, 67655 Kaiserslautern
END:VEVENT
BEGIN:VEVENT
DTSTAMP:20260419T192959
DTSTART;TZID=Europe/Berlin:20260416T183000
DTEND;TZID=Europe/Berlin:20260416T200000
UID:BD4228-20260416T183000@VHSKAISERSLAUTERN E.V.
SUMMARY:Konversation auf Deutsch – in lockerer Runde unterhalten und austauschen A2/B1 (BD4228) 
LOCATION:WBZ, Raum 112, Kanalstraße 3, 67655 Kaiserslautern
END:VEVENT
BEGIN:VEVENT
DTSTAMP:20260419T192959
DTSTART;TZID=Europe/Berlin:20260423T183000
DTEND;TZID=Europe/Berlin:20260423T200000
UID:BD4228-20260423T183000@VHSKAISERSLAUTERN E.V.
SUMMARY:Konversation auf Deutsch – in lockerer Runde unterhalten und austauschen A2/B1 (BD4228) 
LOCATION:WBZ, Raum 112, Kanalstraße 3, 67655 Kaiserslautern
END:VEVENT
BEGIN:VEVENT
DTSTAMP:20260419T192959
DTSTART;TZID=Europe/Berlin:20260430T183000
DTEND;TZID=Europe/Berlin:20260430T200000
UID:BD4228-20260430T183000@VHSKAISERSLAUTERN E.V.
SUMMARY:Konversation auf Deutsch – in lockerer Runde unterhalten und austauschen A2/B1 (BD4228) 
LOCATION:WBZ, Raum 112, Kanalstraße 3, 67655 Kaiserslautern
END:VEVENT
BEGIN:VEVENT
DTSTAMP:20260419T192959
DTSTART;TZID=Europe/Berlin:20260507T183000
DTEND;TZID=Europe/Berlin:20260507T200000
UID:BD4228-20260507T183000@VHSKAISERSLAUTERN E.V.
SUMMARY:Konversation auf Deutsch – in lockerer Runde unterhalten und austauschen A2/B1 (BD4228) 
LOCATION:WBZ, Raum 112, Kanalstraße 3, 67655 Kaiserslautern
END:VEVENT
BEGIN:VEVENT
DTSTAMP:20260419T192959
DTSTART;TZID=Europe/Berlin:20260521T183000
DTEND;TZID=Europe/Berlin:20260521T200000
UID:BD4228-20260521T183000@VHSKAISERSLAUTERN E.V.
SUMMARY:Konversation auf Deutsch – in lockerer Runde unterhalten und austauschen A2/B1 (BD4228) 
LOCATION:WBZ, Raum 112, Kanalstraße 3, 67655 Kaiserslautern
END:VEVENT
END:VCALENDAR