BEGIN:VCALENDAR
VERSION:2.0
PRODID:https://www.kufer.de/kuferweb / DE
METHOD:PUBLISH
CALSCALE:GREGORIAN
X-WR-TIMEZONE:Europe/Berlin
BEGIN:VTIMEZONE
TZID:Europe/Berlin
X-LIC-LOCATION:Europe/Berlin
BEGIN:DAYLIGHT
TZOFFSETFROM:+0100
TZOFFSETTO:+0200
TZNAME:CEST
DTSTART:19700329T020000
RRULE:FREQ=YEARLY;INTERVAL=1;BYDAY=-1SU;BYMONTH=3
END:DAYLIGHT
BEGIN:STANDARD
TZOFFSETFROM:+0200
TZOFFSETTO:+0100
TZNAME:CET
DTSTART:19701025T030000
RRULE:FREQ=YEARLY;INTERVAL=1;BYDAY=-1SU;BYMONTH=10
END:STANDARD
END:VTIMEZONE
BEGIN:VEVENT
DTSTAMP:20260421T134649
DTSTART;TZID=Europe/Berlin:20260202T184500
DTEND;TZID=Europe/Berlin:20260202T200000
UID:BD3231-20260202T184500@VHSKAISERSLAUTERN E.V.
SUMMARY:Pilates - Kraft & Flexibilität am Abend (BD3231) 
LOCATION:WBZ, Raum U20, Kanalstraße 3, 67655 Kaiserslautern
END:VEVENT
BEGIN:VEVENT
DTSTAMP:20260421T134649
DTSTART;TZID=Europe/Berlin:20260209T184500
DTEND;TZID=Europe/Berlin:20260209T200000
UID:BD3231-20260209T184500@VHSKAISERSLAUTERN E.V.
SUMMARY:Pilates - Kraft & Flexibilität am Abend (BD3231) 
LOCATION:WBZ, Raum U20, Kanalstraße 3, 67655 Kaiserslautern
END:VEVENT
BEGIN:VEVENT
DTSTAMP:20260421T134649
DTSTART;TZID=Europe/Berlin:20260223T184500
DTEND;TZID=Europe/Berlin:20260223T200000
UID:BD3231-20260223T184500@VHSKAISERSLAUTERN E.V.
SUMMARY:Pilates - Kraft & Flexibilität am Abend (BD3231) 
LOCATION:WBZ, Raum U20, Kanalstraße 3, 67655 Kaiserslautern
END:VEVENT
BEGIN:VEVENT
DTSTAMP:20260421T134649
DTSTART;TZID=Europe/Berlin:20260302T184500
DTEND;TZID=Europe/Berlin:20260302T200000
UID:BD3231-20260302T184500@VHSKAISERSLAUTERN E.V.
SUMMARY:Pilates - Kraft & Flexibilität am Abend (BD3231) 
LOCATION:WBZ, Raum U20, Kanalstraße 3, 67655 Kaiserslautern
END:VEVENT
BEGIN:VEVENT
DTSTAMP:20260421T134649
DTSTART;TZID=Europe/Berlin:20260309T184500
DTEND;TZID=Europe/Berlin:20260309T200000
UID:BD3231-20260309T184500@VHSKAISERSLAUTERN E.V.
SUMMARY:Pilates - Kraft & Flexibilität am Abend (BD3231) 
LOCATION:WBZ, Raum U20, Kanalstraße 3, 67655 Kaiserslautern
END:VEVENT
BEGIN:VEVENT
DTSTAMP:20260421T134649
DTSTART;TZID=Europe/Berlin:20260316T184500
DTEND;TZID=Europe/Berlin:20260316T200000
UID:BD3231-20260316T184500@VHSKAISERSLAUTERN E.V.
SUMMARY:Pilates - Kraft & Flexibilität am Abend (BD3231) 
LOCATION:WBZ, Raum U20, Kanalstraße 3, 67655 Kaiserslautern
END:VEVENT
BEGIN:VEVENT
DTSTAMP:20260421T134649
DTSTART;TZID=Europe/Berlin:20260323T184500
DTEND;TZID=Europe/Berlin:20260323T200000
UID:BD3231-20260323T184500@VHSKAISERSLAUTERN E.V.
SUMMARY:Pilates - Kraft & Flexibilität am Abend (BD3231) 
LOCATION:WBZ, Raum U20, Kanalstraße 3, 67655 Kaiserslautern
END:VEVENT
BEGIN:VEVENT
DTSTAMP:20260421T134649
DTSTART;TZID=Europe/Berlin:20260413T181500
DTEND;TZID=Europe/Berlin:20260413T193000
UID:BD3231-20260413T181500@VHSKAISERSLAUTERN E.V.
SUMMARY:Pilates - Kraft & Flexibilität am Abend (BD3231) 
LOCATION:WBZ, Raum U20, Kanalstraße 3, 67655 Kaiserslautern
END:VEVENT
BEGIN:VEVENT
DTSTAMP:20260421T134649
DTSTART;TZID=Europe/Berlin:20260420T181500
DTEND;TZID=Europe/Berlin:20260420T193000
UID:BD3231-20260420T181500@VHSKAISERSLAUTERN E.V.
SUMMARY:Pilates - Kraft & Flexibilität am Abend (BD3231) 
LOCATION:WBZ, Raum U20, Kanalstraße 3, 67655 Kaiserslautern
END:VEVENT
BEGIN:VEVENT
DTSTAMP:20260421T134649
DTSTART;TZID=Europe/Berlin:20260427T181500
DTEND;TZID=Europe/Berlin:20260427T193000
UID:BD3231-20260427T181500@VHSKAISERSLAUTERN E.V.
SUMMARY:Pilates - Kraft & Flexibilität am Abend (BD3231) 
LOCATION:WBZ, Raum U20, Kanalstraße 3, 67655 Kaiserslautern
END:VEVENT
BEGIN:VEVENT
DTSTAMP:20260421T134649
DTSTART;TZID=Europe/Berlin:20260504T181500
DTEND;TZID=Europe/Berlin:20260504T193000
UID:BD3231-20260504T181500@VHSKAISERSLAUTERN E.V.
SUMMARY:Pilates - Kraft & Flexibilität am Abend (BD3231) 
LOCATION:WBZ, Raum U20, Kanalstraße 3, 67655 Kaiserslautern
END:VEVENT
BEGIN:VEVENT
DTSTAMP:20260421T134649
DTSTART;TZID=Europe/Berlin:20260511T181500
DTEND;TZID=Europe/Berlin:20260511T193000
UID:BD3231-20260511T181500@VHSKAISERSLAUTERN E.V.
SUMMARY:Pilates - Kraft & Flexibilität am Abend (BD3231) 
LOCATION:WBZ, Raum U20, Kanalstraße 3, 67655 Kaiserslautern
END:VEVENT
BEGIN:VEVENT
DTSTAMP:20260421T134649
DTSTART;TZID=Europe/Berlin:20260518T181500
DTEND;TZID=Europe/Berlin:20260518T193000
UID:BD3231-20260518T181500@VHSKAISERSLAUTERN E.V.
SUMMARY:Pilates - Kraft & Flexibilität am Abend (BD3231) 
LOCATION:WBZ, Raum U20, Kanalstraße 3, 67655 Kaiserslautern
END:VEVENT
BEGIN:VEVENT
DTSTAMP:20260421T134649
DTSTART;TZID=Europe/Berlin:20260601T181500
DTEND;TZID=Europe/Berlin:20260601T193000
UID:BD3231-20260601T181500@VHSKAISERSLAUTERN E.V.
SUMMARY:Pilates - Kraft & Flexibilität am Abend (BD3231) 
LOCATION:WBZ, Raum U20, Kanalstraße 3, 67655 Kaiserslautern
END:VEVENT
BEGIN:VEVENT
DTSTAMP:20260421T134649
DTSTART;TZID=Europe/Berlin:20260608T181500
DTEND;TZID=Europe/Berlin:20260608T193000
UID:BD3231-20260608T181500@VHSKAISERSLAUTERN E.V.
SUMMARY:Pilates - Kraft & Flexibilität am Abend (BD3231) 
LOCATION:WBZ, Raum U20, Kanalstraße 3, 67655 Kaiserslautern
END:VEVENT
END:VCALENDAR