BEGIN:VCALENDAR
VERSION:2.0
PRODID:https://www.kufer.de/kuferweb / DE
METHOD:PUBLISH
CALSCALE:GREGORIAN
X-WR-TIMEZONE:Europe/Berlin
BEGIN:VTIMEZONE
TZID:Europe/Berlin
X-LIC-LOCATION:Europe/Berlin
BEGIN:DAYLIGHT
TZOFFSETFROM:+0100
TZOFFSETTO:+0200
TZNAME:CEST
DTSTART:19700329T020000
RRULE:FREQ=YEARLY;INTERVAL=1;BYDAY=-1SU;BYMONTH=3
END:DAYLIGHT
BEGIN:STANDARD
TZOFFSETFROM:+0200
TZOFFSETTO:+0100
TZNAME:CET
DTSTART:19701025T030000
RRULE:FREQ=YEARLY;INTERVAL=1;BYDAY=-1SU;BYMONTH=10
END:STANDARD
END:VTIMEZONE
BEGIN:VEVENT
DTSTAMP:20260421T133937
DTSTART;TZID=Europe/Berlin:20260519T164500
DTEND;TZID=Europe/Berlin:20260519T181500
UID:BD3102A-20260519T164500@VHSKAISERSLAUTERN E.V.
SUMMARY:Yoga von Anfang an (BD3102A) 
LOCATION:WBZ, Raum U20, Kanalstraße 3, 67655 Kaiserslautern
END:VEVENT
BEGIN:VEVENT
DTSTAMP:20260421T133937
DTSTART;TZID=Europe/Berlin:20260526T164500
DTEND;TZID=Europe/Berlin:20260526T181500
UID:BD3102A-20260526T164500@VHSKAISERSLAUTERN E.V.
SUMMARY:Yoga von Anfang an (BD3102A) 
LOCATION:WBZ, Raum U20, Kanalstraße 3, 67655 Kaiserslautern
END:VEVENT
BEGIN:VEVENT
DTSTAMP:20260421T133937
DTSTART;TZID=Europe/Berlin:20260602T164500
DTEND;TZID=Europe/Berlin:20260602T181500
UID:BD3102A-20260602T164500@VHSKAISERSLAUTERN E.V.
SUMMARY:Yoga von Anfang an (BD3102A) 
LOCATION:WBZ, Raum U20, Kanalstraße 3, 67655 Kaiserslautern
END:VEVENT
BEGIN:VEVENT
DTSTAMP:20260421T133937
DTSTART;TZID=Europe/Berlin:20260609T164500
DTEND;TZID=Europe/Berlin:20260609T181500
UID:BD3102A-20260609T164500@VHSKAISERSLAUTERN E.V.
SUMMARY:Yoga von Anfang an (BD3102A) 
LOCATION:WBZ, Raum U20, Kanalstraße 3, 67655 Kaiserslautern
END:VEVENT
END:VCALENDAR