BEGIN:VCALENDAR
VERSION:2.0
PRODID:https://www.kufer.de/kuferweb / DE
METHOD:PUBLISH
CALSCALE:GREGORIAN
X-WR-TIMEZONE:Europe/Berlin
BEGIN:VTIMEZONE
TZID:Europe/Berlin
X-LIC-LOCATION:Europe/Berlin
BEGIN:DAYLIGHT
TZOFFSETFROM:+0100
TZOFFSETTO:+0200
TZNAME:CEST
DTSTART:19700329T020000
RRULE:FREQ=YEARLY;INTERVAL=1;BYDAY=-1SU;BYMONTH=3
END:DAYLIGHT
BEGIN:STANDARD
TZOFFSETFROM:+0200
TZOFFSETTO:+0100
TZNAME:CET
DTSTART:19701025T030000
RRULE:FREQ=YEARLY;INTERVAL=1;BYDAY=-1SU;BYMONTH=10
END:STANDARD
END:VTIMEZONE
BEGIN:VEVENT
DTSTAMP:20260421T110422
DTSTART;TZID=Europe/Berlin:20260213T150000
DTEND;TZID=Europe/Berlin:20260213T163000
UID:BD2830-20260213T150000@VHSKAISERSLAUTERN E.V.
SUMMARY:Ausgewählten Kunst- und Kulturinstitutionen in Kaiserslautern auf der Spur (BD2830) 
LOCATION:unterwegs in KL
END:VEVENT
BEGIN:VEVENT
DTSTAMP:20260421T110422
DTSTART;TZID=Europe/Berlin:20260313T150000
DTEND;TZID=Europe/Berlin:20260313T163000
UID:BD2830-20260313T150000@VHSKAISERSLAUTERN E.V.
SUMMARY:Ausgewählten Kunst- und Kulturinstitutionen in Kaiserslautern auf der Spur (BD2830) 
LOCATION:unterwegs in KL
END:VEVENT
BEGIN:VEVENT
DTSTAMP:20260421T110422
DTSTART;TZID=Europe/Berlin:20260417T150000
DTEND;TZID=Europe/Berlin:20260417T163000
UID:BD2830-20260417T150000@VHSKAISERSLAUTERN E.V.
SUMMARY:Ausgewählten Kunst- und Kulturinstitutionen in Kaiserslautern auf der Spur (BD2830) 
LOCATION:unterwegs in KL
END:VEVENT
BEGIN:VEVENT
DTSTAMP:20260421T110422
DTSTART;TZID=Europe/Berlin:20260508T150000
DTEND;TZID=Europe/Berlin:20260508T163000
UID:BD2830-20260508T150000@VHSKAISERSLAUTERN E.V.
SUMMARY:Ausgewählten Kunst- und Kulturinstitutionen in Kaiserslautern auf der Spur (BD2830) 
LOCATION:unterwegs in KL
END:VEVENT
END:VCALENDAR