BEGIN:VCALENDAR
VERSION:2.0
PRODID:https://www.kufer.de/kuferweb / DE
METHOD:PUBLISH
CALSCALE:GREGORIAN
X-WR-TIMEZONE:Europe/Berlin
BEGIN:VTIMEZONE
TZID:Europe/Berlin
X-LIC-LOCATION:Europe/Berlin
BEGIN:DAYLIGHT
TZOFFSETFROM:+0100
TZOFFSETTO:+0200
TZNAME:CEST
DTSTART:19700329T020000
RRULE:FREQ=YEARLY;INTERVAL=1;BYDAY=-1SU;BYMONTH=3
END:DAYLIGHT
BEGIN:STANDARD
TZOFFSETFROM:+0200
TZOFFSETTO:+0100
TZNAME:CET
DTSTART:19701025T030000
RRULE:FREQ=YEARLY;INTERVAL=1;BYDAY=-1SU;BYMONTH=10
END:STANDARD
END:VTIMEZONE
BEGIN:VEVENT
DTSTAMP:20260419T203159
DTSTART;TZID=Europe/Berlin:20260504T200000
DTEND;TZID=Europe/Berlin:20260504T210000
UID:BD2403F-20260504T200000@VHSKAISERSLAUTERN E.V.
SUMMARY:Linedance (BD2403F) 
LOCATION:studio kL Pfaffplatz 16, Pfaffplatz 16, 67655 Kaiserslautern
END:VEVENT
BEGIN:VEVENT
DTSTAMP:20260419T203159
DTSTART;TZID=Europe/Berlin:20260511T200000
DTEND;TZID=Europe/Berlin:20260511T210000
UID:BD2403F-20260511T200000@VHSKAISERSLAUTERN E.V.
SUMMARY:Linedance (BD2403F) 
LOCATION:studio kL Pfaffplatz 16, Pfaffplatz 16, 67655 Kaiserslautern
END:VEVENT
BEGIN:VEVENT
DTSTAMP:20260419T203159
DTSTART;TZID=Europe/Berlin:20260518T200000
DTEND;TZID=Europe/Berlin:20260518T210000
UID:BD2403F-20260518T200000@VHSKAISERSLAUTERN E.V.
SUMMARY:Linedance (BD2403F) 
LOCATION:studio kL Pfaffplatz 16, Pfaffplatz 16, 67655 Kaiserslautern
END:VEVENT
BEGIN:VEVENT
DTSTAMP:20260419T203159
DTSTART;TZID=Europe/Berlin:20260601T200000
DTEND;TZID=Europe/Berlin:20260601T210000
UID:BD2403F-20260601T200000@VHSKAISERSLAUTERN E.V.
SUMMARY:Linedance (BD2403F) 
LOCATION:studio kL Pfaffplatz 16, Pfaffplatz 16, 67655 Kaiserslautern
END:VEVENT
BEGIN:VEVENT
DTSTAMP:20260419T203159
DTSTART;TZID=Europe/Berlin:20260608T200000
DTEND;TZID=Europe/Berlin:20260608T210000
UID:BD2403F-20260608T200000@VHSKAISERSLAUTERN E.V.
SUMMARY:Linedance (BD2403F) 
LOCATION:studio kL Pfaffplatz 16, Pfaffplatz 16, 67655 Kaiserslautern
END:VEVENT
BEGIN:VEVENT
DTSTAMP:20260419T203159
DTSTART;TZID=Europe/Berlin:20260615T200000
DTEND;TZID=Europe/Berlin:20260615T210000
UID:BD2403F-20260615T200000@VHSKAISERSLAUTERN E.V.
SUMMARY:Linedance (BD2403F) 
LOCATION:studio kL Pfaffplatz 16, Pfaffplatz 16, 67655 Kaiserslautern
END:VEVENT
BEGIN:VEVENT
DTSTAMP:20260419T203159
DTSTART;TZID=Europe/Berlin:20260622T200000
DTEND;TZID=Europe/Berlin:20260622T210000
UID:BD2403F-20260622T200000@VHSKAISERSLAUTERN E.V.
SUMMARY:Linedance (BD2403F) 
LOCATION:studio kL Pfaffplatz 16, Pfaffplatz 16, 67655 Kaiserslautern
END:VEVENT
BEGIN:VEVENT
DTSTAMP:20260419T203159
DTSTART;TZID=Europe/Berlin:20260629T200000
DTEND;TZID=Europe/Berlin:20260629T210000
UID:BD2403F-20260629T200000@VHSKAISERSLAUTERN E.V.
SUMMARY:Linedance (BD2403F) 
LOCATION:studio kL Pfaffplatz 16, Pfaffplatz 16, 67655 Kaiserslautern
END:VEVENT
BEGIN:VEVENT
DTSTAMP:20260419T203159
DTSTART;TZID=Europe/Berlin:20260706T200000
DTEND;TZID=Europe/Berlin:20260706T210000
UID:BD2403F-20260706T200000@VHSKAISERSLAUTERN E.V.
SUMMARY:Linedance (BD2403F) 
LOCATION:studio kL Pfaffplatz 16, Pfaffplatz 16, 67655 Kaiserslautern
END:VEVENT
BEGIN:VEVENT
DTSTAMP:20260419T203159
DTSTART;TZID=Europe/Berlin:20260713T200000
DTEND;TZID=Europe/Berlin:20260713T210000
UID:BD2403F-20260713T200000@VHSKAISERSLAUTERN E.V.
SUMMARY:Linedance (BD2403F) 
LOCATION:studio kL Pfaffplatz 16, Pfaffplatz 16, 67655 Kaiserslautern
END:VEVENT
END:VCALENDAR