BEGIN:VCALENDAR
VERSION:2.0
PRODID:https://www.kufer.de/kuferweb / DE
METHOD:PUBLISH
CALSCALE:GREGORIAN
X-WR-TIMEZONE:Europe/Berlin
BEGIN:VTIMEZONE
TZID:Europe/Berlin
X-LIC-LOCATION:Europe/Berlin
BEGIN:DAYLIGHT
TZOFFSETFROM:+0100
TZOFFSETTO:+0200
TZNAME:CEST
DTSTART:19700329T020000
RRULE:FREQ=YEARLY;INTERVAL=1;BYDAY=-1SU;BYMONTH=3
END:DAYLIGHT
BEGIN:STANDARD
TZOFFSETFROM:+0200
TZOFFSETTO:+0100
TZNAME:CET
DTSTART:19701025T030000
RRULE:FREQ=YEARLY;INTERVAL=1;BYDAY=-1SU;BYMONTH=10
END:STANDARD
END:VTIMEZONE
BEGIN:VEVENT
DTSTAMP:20260423T031806
DTSTART;TZID=Europe/Berlin:20260120T090000
DTEND;TZID=Europe/Berlin:20260120T160000
UID:BD2103-20260120T090000@VHSKAISERSLAUTERN E.V.
DESCRIPTION:Raum für Gruppenarbeit
SUMMARY:Lehrgang: Qualifizierung zur Praxisanleitung von Erzieherinnen und Erziehern im Berufspraktikum (BD2103) 
LOCATION:WBZ, Raum 114, Kanalstraße 3, 67655 Kaiserslautern
END:VEVENT
BEGIN:VEVENT
DTSTAMP:20260423T031806
DTSTART;TZID=Europe/Berlin:20260120T090000
DTEND;TZID=Europe/Berlin:20260120T160000
UID:BD2103-20260120T090000@VHSKAISERSLAUTERN E.V.
DESCRIPTION:Raum für Gruppenarbeit
SUMMARY:Lehrgang: Qualifizierung zur Praxisanleitung von Erzieherinnen und Erziehern im Berufspraktikum (BD2103) 
LOCATION:WBZ, Raum E03, Kanalstraße 3, 67655 Kaiserslautern
END:VEVENT
BEGIN:VEVENT
DTSTAMP:20260423T031806
DTSTART;TZID=Europe/Berlin:20260120T090000
DTEND;TZID=Europe/Berlin:20260120T160000
UID:BD2103-20260120T090000@VHSKAISERSLAUTERN E.V.
SUMMARY:Lehrgang: Qualifizierung zur Praxisanleitung von Erzieherinnen und Erziehern im Berufspraktikum (BD2103) 
LOCATION:WBZ, Raum U30, Kanalstr. 3, 67655 Kaiserslautern
END:VEVENT
BEGIN:VEVENT
DTSTAMP:20260423T031806
DTSTART;TZID=Europe/Berlin:20260127T090000
DTEND;TZID=Europe/Berlin:20260127T160000
UID:BD2103-20260127T090000@VHSKAISERSLAUTERN E.V.
DESCRIPTION:Raum für Gruppenarbeit
SUMMARY:Lehrgang: Qualifizierung zur Praxisanleitung von Erzieherinnen und Erziehern im Berufspraktikum (BD2103) 
LOCATION:WBZ, Raum E03, Kanalstraße 3, 67655 Kaiserslautern
END:VEVENT
BEGIN:VEVENT
DTSTAMP:20260423T031806
DTSTART;TZID=Europe/Berlin:20260127T090000
DTEND;TZID=Europe/Berlin:20260127T160000
UID:BD2103-20260127T090000@VHSKAISERSLAUTERN E.V.
SUMMARY:Lehrgang: Qualifizierung zur Praxisanleitung von Erzieherinnen und Erziehern im Berufspraktikum (BD2103) 
LOCATION:WBZ, Raum U30, Kanalstr. 3, 67655 Kaiserslautern
END:VEVENT
BEGIN:VEVENT
DTSTAMP:20260423T031806
DTSTART;TZID=Europe/Berlin:20260127T090000
DTEND;TZID=Europe/Berlin:20260127T160000
UID:BD2103-20260127T090000@VHSKAISERSLAUTERN E.V.
DESCRIPTION:Raum für Gruppenarbeit
SUMMARY:Lehrgang: Qualifizierung zur Praxisanleitung von Erzieherinnen und Erziehern im Berufspraktikum (BD2103) 
LOCATION:WBZ, Raum 114, Kanalstraße 3, 67655 Kaiserslautern
END:VEVENT
BEGIN:VEVENT
DTSTAMP:20260423T031806
DTSTART;TZID=Europe/Berlin:20260310T090000
DTEND;TZID=Europe/Berlin:20260310T160000
UID:BD2103-20260310T090000@VHSKAISERSLAUTERN E.V.
DESCRIPTION:Raum für Gruppenarbeit
SUMMARY:Lehrgang: Qualifizierung zur Praxisanleitung von Erzieherinnen und Erziehern im Berufspraktikum (BD2103) 
LOCATION:WBZ, Raum 114, Kanalstraße 3, 67655 Kaiserslautern
END:VEVENT
BEGIN:VEVENT
DTSTAMP:20260423T031806
DTSTART;TZID=Europe/Berlin:20260310T090000
DTEND;TZID=Europe/Berlin:20260310T160000
UID:BD2103-20260310T090000@VHSKAISERSLAUTERN E.V.
SUMMARY:Lehrgang: Qualifizierung zur Praxisanleitung von Erzieherinnen und Erziehern im Berufspraktikum (BD2103) 
LOCATION:WBZ, Raum U30, Kanalstr. 3, 67655 Kaiserslautern
END:VEVENT
BEGIN:VEVENT
DTSTAMP:20260423T031806
DTSTART;TZID=Europe/Berlin:20260310T090000
DTEND;TZID=Europe/Berlin:20260310T160000
UID:BD2103-20260310T090000@VHSKAISERSLAUTERN E.V.
DESCRIPTION:Raum für Gruppenarbeit
SUMMARY:Lehrgang: Qualifizierung zur Praxisanleitung von Erzieherinnen und Erziehern im Berufspraktikum (BD2103) 
LOCATION:WBZ, Raum 116, Kanalstraße 3, 67655 Kaiserslautern
END:VEVENT
BEGIN:VEVENT
DTSTAMP:20260423T031806
DTSTART;TZID=Europe/Berlin:20260324T090000
DTEND;TZID=Europe/Berlin:20260324T160000
UID:BD2103-20260324T090000@VHSKAISERSLAUTERN E.V.
DESCRIPTION:Raum für Gruppenarbeit
SUMMARY:Lehrgang: Qualifizierung zur Praxisanleitung von Erzieherinnen und Erziehern im Berufspraktikum (BD2103) 
LOCATION:WBZ, Raum 114, Kanalstraße 3, 67655 Kaiserslautern
END:VEVENT
BEGIN:VEVENT
DTSTAMP:20260423T031806
DTSTART;TZID=Europe/Berlin:20260324T090000
DTEND;TZID=Europe/Berlin:20260324T160000
UID:BD2103-20260324T090000@VHSKAISERSLAUTERN E.V.
DESCRIPTION:Raum für Gruppenarbeit
SUMMARY:Lehrgang: Qualifizierung zur Praxisanleitung von Erzieherinnen und Erziehern im Berufspraktikum (BD2103) 
LOCATION:WBZ, Raum 116, Kanalstraße 3, 67655 Kaiserslautern
END:VEVENT
BEGIN:VEVENT
DTSTAMP:20260423T031806
DTSTART;TZID=Europe/Berlin:20260324T090000
DTEND;TZID=Europe/Berlin:20260324T160000
UID:BD2103-20260324T090000@VHSKAISERSLAUTERN E.V.
SUMMARY:Lehrgang: Qualifizierung zur Praxisanleitung von Erzieherinnen und Erziehern im Berufspraktikum (BD2103) 
LOCATION:WBZ, Raum U30, Kanalstr. 3, 67655 Kaiserslautern
END:VEVENT
BEGIN:VEVENT
DTSTAMP:20260423T031806
DTSTART;TZID=Europe/Berlin:20260421T090000
DTEND;TZID=Europe/Berlin:20260421T160000
UID:BD2103-20260421T090000@VHSKAISERSLAUTERN E.V.
DESCRIPTION:Raum für Gruppenarbeit
SUMMARY:Lehrgang: Qualifizierung zur Praxisanleitung von Erzieherinnen und Erziehern im Berufspraktikum (BD2103) 
LOCATION:WBZ, Raum 116, Kanalstraße 3, 67655 Kaiserslautern
END:VEVENT
BEGIN:VEVENT
DTSTAMP:20260423T031806
DTSTART;TZID=Europe/Berlin:20260421T090000
DTEND;TZID=Europe/Berlin:20260421T160000
UID:BD2103-20260421T090000@VHSKAISERSLAUTERN E.V.
DESCRIPTION:Raum für Gruppenarbeit
SUMMARY:Lehrgang: Qualifizierung zur Praxisanleitung von Erzieherinnen und Erziehern im Berufspraktikum (BD2103) 
LOCATION:WBZ, Raum 114, Kanalstraße 3, 67655 Kaiserslautern
END:VEVENT
BEGIN:VEVENT
DTSTAMP:20260423T031806
DTSTART;TZID=Europe/Berlin:20260421T090000
DTEND;TZID=Europe/Berlin:20260421T160000
UID:BD2103-20260421T090000@VHSKAISERSLAUTERN E.V.
SUMMARY:Lehrgang: Qualifizierung zur Praxisanleitung von Erzieherinnen und Erziehern im Berufspraktikum (BD2103) 
LOCATION:WBZ, Raum U30, Kanalstr. 3, 67655 Kaiserslautern
END:VEVENT
BEGIN:VEVENT
DTSTAMP:20260423T031806
DTSTART;TZID=Europe/Berlin:20260512T090000
DTEND;TZID=Europe/Berlin:20260512T160000
UID:BD2103-20260512T090000@VHSKAISERSLAUTERN E.V.
SUMMARY:Lehrgang: Qualifizierung zur Praxisanleitung von Erzieherinnen und Erziehern im Berufspraktikum (BD2103) 
LOCATION:WBZ, Raum U30, Kanalstr. 3, 67655 Kaiserslautern
END:VEVENT
BEGIN:VEVENT
DTSTAMP:20260423T031806
DTSTART;TZID=Europe/Berlin:20260512T090000
DTEND;TZID=Europe/Berlin:20260512T160000
UID:BD2103-20260512T090000@VHSKAISERSLAUTERN E.V.
DESCRIPTION:Raum für Gruppenarbeit
SUMMARY:Lehrgang: Qualifizierung zur Praxisanleitung von Erzieherinnen und Erziehern im Berufspraktikum (BD2103) 
LOCATION:WBZ, Raum E03, Kanalstraße 3, 67655 Kaiserslautern
END:VEVENT
BEGIN:VEVENT
DTSTAMP:20260423T031806
DTSTART;TZID=Europe/Berlin:20260512T090000
DTEND;TZID=Europe/Berlin:20260512T160000
UID:BD2103-20260512T090000@VHSKAISERSLAUTERN E.V.
DESCRIPTION:Raum für Gruppenarbeit
SUMMARY:Lehrgang: Qualifizierung zur Praxisanleitung von Erzieherinnen und Erziehern im Berufspraktikum (BD2103) 
LOCATION:WBZ, Raum 114, Kanalstraße 3, 67655 Kaiserslautern
END:VEVENT
BEGIN:VEVENT
DTSTAMP:20260423T031806
DTSTART;TZID=Europe/Berlin:20260526T090000
DTEND;TZID=Europe/Berlin:20260526T160000
UID:BD2103-20260526T090000@VHSKAISERSLAUTERN E.V.
SUMMARY:Lehrgang: Qualifizierung zur Praxisanleitung von Erzieherinnen und Erziehern im Berufspraktikum (BD2103) 
LOCATION:WBZ, Raum U30, Kanalstr. 3, 67655 Kaiserslautern
END:VEVENT
BEGIN:VEVENT
DTSTAMP:20260423T031806
DTSTART;TZID=Europe/Berlin:20260526T090000
DTEND;TZID=Europe/Berlin:20260526T160000
UID:BD2103-20260526T090000@VHSKAISERSLAUTERN E.V.
DESCRIPTION:Raum für Gruppenarbeit
SUMMARY:Lehrgang: Qualifizierung zur Praxisanleitung von Erzieherinnen und Erziehern im Berufspraktikum (BD2103) 
LOCATION:WBZ, Raum E03, Kanalstraße 3, 67655 Kaiserslautern
END:VEVENT
BEGIN:VEVENT
DTSTAMP:20260423T031806
DTSTART;TZID=Europe/Berlin:20260526T090000
DTEND;TZID=Europe/Berlin:20260526T160000
UID:BD2103-20260526T090000@VHSKAISERSLAUTERN E.V.
DESCRIPTION:Raum für Gruppenarbeit
SUMMARY:Lehrgang: Qualifizierung zur Praxisanleitung von Erzieherinnen und Erziehern im Berufspraktikum (BD2103) 
LOCATION:WBZ, Raum 114, Kanalstraße 3, 67655 Kaiserslautern
END:VEVENT
END:VCALENDAR